BEGIN:VCALENDAR
VERSION:2.0
PRODID:-//ChamberMaster//Event Calendar 2.0//EN
METHOD:PUBLISH
X-PUBLISHED-TTL:P3D
REFRESH-INTERVAL:P3D
CALSCALE:GREGORIAN
BEGIN:VEVENT
DTSTART:20250510T140000Z
DTEND:20250510T160000Z
X-MICROSOFT-CDO-ALLDAYEVENT:FALSE
SUMMARY:Longwood Jazz Festival
DESCRIPTION:The City of Longwood and Lyman High School Band Program present the Longwood Jazz Festival featuring Indian Trails Middle School\, Milwee Middle School\, Winter Springs High School\, and Lyman High School Jazz Bands on May 11\, 2024\, from 10a - 12p at Reiter Park\, 311 W Warren Avenue.
X-ALT-DESC;FMTTYPE=text/html:<div><span style="color:rgb(8\, 8\, 9)\; font-family:segoe ui historic\,segoe ui\,helvetica\,arial\,sans-serif\; font-size:15px">The City of Longwood and Lyman High School Band Program present the Longwood Jazz Festival featuring Indian Trails Middle School\, Milwee Middle School\, Winter Springs High School\, and Lyman High School Jazz Bands on May 11\, 2024\, from 10a - 12p at Reiter Park\, 311 W Warren Avenue.</span></div>\n
LOCATION:Reiter Park 311 West Warren Avenue Longwood\, FL 32750
UID:e.2138.36974
SEQUENCE:3
DTSTAMP:20260423T140130Z
URL:https://business.seminolebusiness.org/events/details/longwood-jazz-festival-05-10-2025-36974
END:VEVENT

END:VCALENDAR
