BEGIN:VCALENDAR
VERSION:2.0
PRODID:-//ChamberMaster//Event Calendar 2.0//EN
METHOD:PUBLISH
X-PUBLISHED-TTL:P3D
REFRESH-INTERVAL:P3D
CALSCALE:GREGORIAN
BEGIN:VEVENT
DTSTART:20190613T160000Z
DTEND:20190613T170000Z
X-MICROSOFT-CDO-ALLDAYEVENT:FALSE
SUMMARY:Lunch n Learn
DESCRIPTION:Come enjoy free informative advice and have lunch at Buca di Beppo in Maitland with Attorney Jeremy Brown from Schwam-Wilcox & Associates and Loan Officer Barbara Jaconetta from Northwest Federal Credit Union. They will be discussing prenuptial / postnuptial agreements as well as asset and credit protection. It is also a great networking opportunity\, so bring your business cards! We will be giving away a free Will Packet.\n\n\n\nA lunch purchase from the menu link below is required with attendance. To sign up pick your lunch choice from the menu and notate it on your payment option. Please mail a check to Schwam-Wilcox & Associates (address below). You can also pay via  VENMO App. or PayPal to info@cbswlaw.com. Payment deadline is June 8\, 2019. Click menu link above to choose your meal. There will be a salad and drink included.  If you have any questions contact Jeff Wilcox at 407-415-5808. HOPE TO SEE YOU THERE JUNE 13th!!!
X-ALT-DESC;FMTTYPE=text/html:<strong><span style="color:black"><span style="font-family:garamond"><span style="font-size:17.0pt">Come </span></span></span></strong><strong><span style="color:black"><span style="font-family:garamond"><span style="font-size:17.0pt">enjoy free informative advice and have lunch at </span></span></span></strong><strong><span style="color:black"><span style="font-family:garamond"><span style="font-size:17.0pt">Buca</span></span></span></strong><strong><span style="color:black"><span style="font-family:garamond"><span style="font-size:17.0pt"> di </span></span></span></strong><strong><span style="color:black"><span style="font-family:garamond"><span style="font-size:17.0pt">Beppo</span></span></span></strong><strong><span style="color:black"><span style="font-family:garamond"><span style="font-size:17.0pt"> in Maitland with Attorney Jeremy Brown from Schwam-Wilcox &amp\; Associates and Loan Officer Barbara Jaconetta from Northwest Federal Credit Union. They will be discussing prenuptial / postnuptial agreements as well as asset and credit protection. </span></span></span></strong><strong><span style="color:black"><span style="font-family:garamond"><span style="font-size:17.0pt">It is also a great networking opportunity\, so bring your business cards! We will be giving away a free Will Packet.</span></span></span></strong><br />\n<br />\n<strong><span style="color:black"><span style="font-family:garamond"><span style="font-size:17.0pt">A </span></span></span></strong><strong><span style="color:black"><span style="font-family:garamond"><span style="font-size:17.0pt">lunch purchase from the </span></span></span></strong><strong><span style="color:black"><span style="font-family:garamond"><span style="font-size:17.0pt">menu link </span></span></span></strong><strong><span style="color:black"><span style="font-family:garamond"><span style="font-size:17.0pt">below </span></span></span></strong><strong><span style="color:black"><span style="font-family:garamond"><span style="font-size:17.0pt">is </span></span></span></strong><strong><span style="color:black"><span style="font-family:garamond"><span style="font-size:17.0pt">required with attendance. To sign up pick your lunch choice from the menu and notate it on your payment option. Please mail a check to Schwam-Wilcox &amp\; Associates (address below). You can also pay via&nbsp\; </span></span></span></strong><strong><span style="color:black"><span style="font-family:garamond"><span style="font-size:17.0pt">VENMO App. or PayPal to info@cbswlaw.com. Payment </span></span></span></strong><strong><span style="color:black"><span style="font-family:garamond"><span style="font-size:17.0pt">deadline is June 8\, 2019. Click menu link </span></span></span></strong><strong><span style="color:black"><span style="font-family:garamond"><span style="font-size:17.0pt">above to </span></span></span></strong><strong><span style="color:black"><span style="font-family:garamond"><span style="font-size:17.0pt">choose your meal. There will be a salad and drink </span></span></span></strong><strong><span style="color:black"><span style="font-family:garamond"><span style="font-size:17.0pt">included. </span></span></span></strong><strong><span style="color:black"><span style="font-family:garamond"><span style="font-size:17.0pt">&nbsp\;If you have any questions contact Jeff Wilcox at 407-415-5808. HOPE TO SEE YOU </span></span></span></strong><strong><span style="color:black"><span style="font-family:garamond"><span style="font-size:17.0pt">THERE JUNE 13th!!!</span></span></span></strong>
LOCATION:Buca di Beppo 1351 S Orlando Ave Maitland\, FL 32751 (407)622-7663
UID:e.2138.15176
SEQUENCE:3
DTSTAMP:20260422T063052Z
URL:https://business.seminolebusiness.org/events/details/lunch-n-learn-15176
END:VEVENT

END:VCALENDAR
