BEGIN:VCALENDAR
VERSION:2.0
PRODID:-//ChamberMaster//Event Calendar 2.0//EN
METHOD:PUBLISH
X-PUBLISHED-TTL:P3D
REFRESH-INTERVAL:P3D
CALSCALE:GREGORIAN
BEGIN:VEVENT
DTSTART:20251001T220000Z
DTEND:20251002T003000Z
X-MICROSOFT-CDO-ALLDAYEVENT:FALSE
SUMMARY:Luxury Cruise Symposium hosted by Expedia Cruises Longwood and Mount Dora
DESCRIPTION:Luxury Cruise Symposium hosted by Expedia Cruises Longwood and Mount Dora\n\n \n\nIndulge in an exquisite array of delectable food and beverages as you meander through the stunning Porsche Orlando Dealership.\n\n \n\nThis is not just an event\; it's a rare opportunity to immerse yourself in the captivating world of Luxury and Expedition Cruising.\n\n \n\nEngage in delightful conversations with our esteemed Business Development Managers\, who are eager to share their insights and expertise.\n\n \n\nDon't miss this chance to explore the extraordinary possibilities that await you in the realm of luxury cruising!\n\n \n\nPartners Attending: \n\nExplora Journeys\, Lindblad Expeditions/National Geographic\, Azamara Cruises\, Virgin Voyages\, Norwegian Cruise Line\, Holland America Line\, Seabourn Cruise Line\, Hapag-Lloyd Cruises\, Celebrity Cruises\, Princess Cruises\, Scenic Cruises\, Emerald Cruises\, Regent Seven Seas Cruises\, AmaWaterways & Kensington Tours\n\n \n\nRegistration: https://lp.constantcontactpages.com/ev/reg/h4jtf5p \n\n \n\nAddress: Porsche Orlando \n\n9590 US Hwy 17-92\, Maitland\, FL 32751\n\n \n\nDate: Wednesday October 1st\, 2025\n\n \n\nTime: 6:00 - 8:30pm\n\nSpace is Limited. Please RSVP.
X-ALT-DESC;FMTTYPE=text/html:<p style="text-align:center"><span style="font-size:16px"><span style="font-size:22px"><strong>Luxury Cruise Symposium hosted by Expedia Cruises Longwood and Mount Dora</strong></span><br />\n&nbsp\;<br />\n<span style="color:#262626">Indulge in an exquisite array of delectable food and beverages as you meander through the stunning Porsche Orlando Dealership.</span><br />\n&nbsp\;<br />\n<span style="color:#156082">This is not just an event\; it&rsquo\;s a rare opportunity to immerse yourself in the captivating world of Luxury and Expedition Cruising.</span><br />\n&nbsp\;<br />\n<span style="color:#262626">Engage in delightful conversations with our esteemed Business Development Managers\, who are eager to share their insights and expertise.</span><br />\n&nbsp\;<br />\n<span style="color:#156082">Don&rsquo\;t miss this chance to explore the extraordinary possibilities that await you in the realm of luxury cruising!</span><br />\n&nbsp\;<br />\n<strong><span style="color:#262626">Partners Attending: </span></strong><br />\n<span style="color:#262626">Explora Journeys\, Lindblad Expeditions/National Geographic\, Azamara Cruises\, Virgin Voyages\, Norwegian Cruise Line\, Holland America Line\, Seabourn Cruise Line\, Hapag-Lloyd Cruises\, Celebrity Cruises\, Princess Cruises\, Scenic Cruises\, Emerald Cruises\, Regent Seven Seas Cruises\, AmaWaterways &amp\; Kensington Tours</span><br />\n&nbsp\;<br />\n<strong><span style="color:#262626">Registration: </span></strong><a href="https://lp.constantcontactpages.com/ev/reg/h4jtf5p"><em><span style="color:#156082">https://lp.constantcontactpages.com/ev/reg/h4jtf5p</span></em></a>&nbsp\;<br />\n&nbsp\;<br />\n<strong><span style="color:#262626">Address:</span></strong><span style="color:#262626"> <em>Porsche Orlando </em></span><br />\n<span style="color:#262626">9590 US Hwy 17-92\, Maitland\, FL 32751</span><br />\n&nbsp\;<br />\n<strong><span style="color:#262626">Date:</span></strong> <span style="color:#156082">Wednesday October 1st\, 2025</span><br />\n&nbsp\;<br />\n<strong><span style="color:#262626">Time:</span></strong><span style="color:#262626"> 6:00 - 8:30pm</span><br />\n<span style="font-size:14px"><em><span style="color:#262626">Space is Limited. Please RSVP.</span></em></span></span></p>\n
LOCATION:Address: Porsche Orlando 9590 US Hwy 17-92\, Maitland\, FL 32751
UID:e.2138.38535
SEQUENCE:3
DTSTAMP:20260423T053948Z
URL:https://business.seminolebusiness.org/events/details/luxury-cruise-symposium-hosted-by-expedia-cruises-longwood-and-mount-dora-38535
END:VEVENT

END:VCALENDAR
