BEGIN:VCALENDAR
VERSION:2.0
PRODID:-//ChamberMaster//Event Calendar 2.0//EN
METHOD:PUBLISH
X-PUBLISHED-TTL:P3D
REFRESH-INTERVAL:P3D
CALSCALE:GREGORIAN
BEGIN:VEVENT
DTSTART;VALUE=DATE:20160823
DTEND;VALUE=DATE:20160824
TRANSP:TRANSPARENT
X-MICROSOFT-CDO-ALLDAYEVENT:TRUE
SUMMARY:Lynda Miller - The Staging Realtor Difference
DESCRIPTION:Learn the Tricks of the Trade.\n\nFood and Wine included in this FREE event.  Lynda Miller\, The Staging Realtor\, teaches the tricks of the trade.\n\nLynda works with her sellers to make their property stand out from the competition\, and knows how to create an atmosphere of beauty and tranquility.
X-ALT-DESC;FMTTYPE=text/html:<h1 style="text-align:center"><span style="font-family:tahoma"><span style="font-size:16px">Learn the Tricks of the Trade.</span></span></h1>\n\n<div style="text-align:center"><big><span style="font-family:tahoma"><span style="font-size:14px">Food and Wine included in this FREE event. &nbsp\;Lynda Miller\, The Staging Realtor\, teaches the tricks of the trade.<br />\nLynda works with her sellers</span></span></big>&nbsp\;<span style="font-size:14px"><span style="font-family:tahoma">to make their property stand out from the competition\, and knows how to create an atmosphere of beauty and tranquility.&nbsp\;</span></span></div>\n
LOCATION:The Wine Barn 959 West Fairbanks Avenue Winter Park
UID:e.2138.4620
SEQUENCE:3
DTSTAMP:20260425T192852Z
URL:https://business.seminolebusiness.org/events/details/lynda-miller-the-staging-realtor-difference-08-23-2016-4620
END:VEVENT

END:VCALENDAR
