BEGIN:VCALENDAR
VERSION:2.0
PRODID:-//ChamberMaster//Event Calendar 2.0//EN
METHOD:PUBLISH
X-PUBLISHED-TTL:P3D
REFRESH-INTERVAL:P3D
CALSCALE:GREGORIAN
BEGIN:VEVENT
DTSTART:20170415T133000Z
DTEND:20170415T160000Z
X-MICROSOFT-CDO-ALLDAYEVENT:FALSE
SUMMARY:Magic 107.7 Easter Egg Hunt
DESCRIPTION:On Saturday\, April 15\, 2017 Magic 107.7 will host its annual Easter Egg Hunt at Reiter Park in Longwood. One of the largest Easter egg hunts in Central Florida\, it attracts over 15\,000 parents and children. From 9:30am to 12:00pm on the Saturday before Easter\, children enjoy hunting for eggs in appropriate age groups\, all types of  fun activities\, and visiting with Peter Cottontail. \n\n\n\nThis Easter celebration is a free event for Magic Listeners and their families\, and is guaranteed to delight children and adults of all ages.
X-ALT-DESC;FMTTYPE=text/html:<span style="color:black"><span style="font-family:rockwell">On Saturday\, April 15\, 2017 Magic 107.7 will host its annual Easter Egg Hunt at Reiter Park in Longwood. One of the largest Easter egg hunts in Central Florida\, it attracts over 15\,000 parents and children. From 9:30am to 12:00pm on the Saturday before Easter\, children enjoy hunting for eggs in appropriate age groups\, all types of&nbsp\; fun activities\, and visiting with Peter Cottontail. </span></span><br />\n<br />\n<span style="color:black"><span style="font-family:rockwell">This Easter celebration is a free event for Magic Listeners and their families\, and is guaranteed to delight children and adults of all ages.&nbsp\;</span></span>
LOCATION:Reiter Park 301 W Warren Ave. Longwood\, FL 32750
UID:e.2138.6683
SEQUENCE:3
DTSTAMP:20260423T191707Z
URL:https://business.seminolebusiness.org/events/details/magic-107-7-easter-egg-hunt-6683
END:VEVENT

END:VCALENDAR
