BEGIN:VCALENDAR
VERSION:2.0
PRODID:-//ChamberMaster//Event Calendar 2.0//EN
METHOD:PUBLISH
X-PUBLISHED-TTL:P3D
REFRESH-INTERVAL:P3D
CALSCALE:GREGORIAN
BEGIN:VEVENT
DTSTART:20161015T150000Z
DTEND:20161015T190000Z
X-MICROSOFT-CDO-ALLDAYEVENT:FALSE
SUMMARY:Maitland Wellness Center Grand Re-Opening Celebration
DESCRIPTION:Join us for a fun day of celebrating the Grand-Re Opening of the NEW Maitland Wellness Center. You will have the opportunity to tour our beautiful facility\, experience mini-treatments\, participate in classes and demonstrations. Bring your family and friends to this fun event!\n\n\n\nFirst 50 Guests receive a gift bag!\n\n\n\nClass Schedule:\n\n11:30   Find Your Dream Career With Chad Brown\, MA\, MBA\n\n\n\n12:00   Self Healing & Massage With Jesse Salmon\, LMT\n\n\n\n12:30   Heal Your Soul With a Dog Meet Thor the Therapy Dog\n\nWith Bill Brennan\, LMHC\n\n\n\n1:00   Chinese Medicine Demonstration\n\nWith Dr. Ellie Barrett\, AP\n\n\n\n1:30   Yoga Class\n\nWith Nikita Kathuria\, LMT\n\n\n\n2:00   Eat Wise & Drop a Size\n\nWith Dr. Amy White\, AP\n\n\n\n2:30 - Essential Oils 101\n\nWith Leslie Lynch\, LMT\, EFT
X-ALT-DESC;FMTTYPE=text/html:Join us for a fun day of celebrating the Grand-Re Opening of the NEW Maitland Wellness Center. You will have the opportunity to tour our beautiful facility\, experience mini-treatments\, participate in classes and demonstrations. Bring your family and friends to this fun event!<br />\n<br />\nFirst 50 Guests receive a gift bag!<br />\n<br />\nClass Schedule:<br />\n11:30 &ndash\; Find Your Dream Career With Chad Brown\, MA\, MBA<br />\n<br />\n12:00 &ndash\; Self Healing &amp\; Massage With Jesse Salmon\, LMT<br />\n<br />\n12:30 &ndash\; Heal Your Soul With a Dog Meet Thor the Therapy Dog<br />\nWith Bill Brennan\, LMHC<br />\n<br />\n1:00 &ndash\; Chinese Medicine Demonstration<br />\nWith Dr. Ellie Barrett\, AP<br />\n<br />\n1:30 &ndash\; Yoga Class<br />\nWith Nikita Kathuria\, LMT<br />\n<br />\n2:00 &ndash\; Eat Wise &amp\; Drop a Size<br />\nWith Dr. Amy White\, AP<br />\n<br />\n2:30 - Essential Oils 101<br />\nWith Leslie Lynch\, LMT\, EFT
LOCATION:237 Lookout Place Maitland\, FL 32751
UID:e.2138.5718
SEQUENCE:3
DTSTAMP:20260425T165040Z
URL:https://business.seminolebusiness.org/events/details/maitland-wellness-center-grand-re-opening-celebration-5718
END:VEVENT

END:VCALENDAR
