BEGIN:VCALENDAR
VERSION:2.0
PRODID:-//ChamberMaster//Event Calendar 2.0//EN
METHOD:PUBLISH
X-PUBLISHED-TTL:P3D
REFRESH-INTERVAL:P3D
CALSCALE:GREGORIAN
BEGIN:VEVENT
DTSTART:20171214T230000Z
DTEND:20171215T000000Z
X-MICROSOFT-CDO-ALLDAYEVENT:FALSE
SUMMARY:Make The Most Of Social Security- FREE WORKSHOP
DESCRIPTION:Social Security Booster\n\n						Workshop/Plan Review\n\n						 \n						\n						\n					\n				\n			\n			\n		\n	\n\n\n\n	\n		\n			 \n		\n		\n			\n			\n				\n					\n						\n						When should you start collecting your Social Security Benefits?  That is the number one question on the minds of many folks these days.  You have paid a lot into Social Security\, but 95% of people don't get the most from Social Security.  Selecting the wrong retirement age could cost you $200\,000. Our customized report runs over 5000 scenarios to help you select the best time to start drawing benefits. So don't wait\, whether you're single\, married\, widowed or divorced\, come in and get your Social Security Booster Plan done today!  Workshop free\, personalized Social Security Booster Plan\, $49.
X-ALT-DESC;FMTTYPE=text/html:<table border="0" cellpadding="0" cellspacing="0" class="e2ma-block-outer" id="block_qiavqlrq" style="background-color:rgb(255\, 255\, 255)\; color:rgb(34\, 34\, 34)\; font-family:helvetica\; font-size:12px\; width:100%">\n	<tbody>\n		<tr>\n			<td>\n			<table border="0" cellpadding="0" cellspacing="0" style="color:rgb(34\, 34\, 34)\; font-size:12px\; width:100%">\n				<tbody>\n					<tr>\n						<td>\n						<div>\n						<h1 style="text-align:center"><span style="font-size:32px">Social Security Booster</span></h1>\n\n						<div style="text-align:center"><span style="font-size:32px">Workshop/Plan Review</span></div>\n\n						<div>&nbsp\;</div>\n						</div>\n						</td>\n					</tr>\n				</tbody>\n			</table>\n			</td>\n		</tr>\n	</tbody>\n</table>\n\n<table border="0" cellpadding="0" cellspacing="0" class="e2ma-block-outer" id="block_qvvhlgwd" style="background-color:rgb(255\, 255\, 255)\; color:rgb(34\, 34\, 34)\; font-family:helvetica\; font-size:12px\; width:100%">\n	<tbody>\n		<tr>\n			<td>&nbsp\;</td>\n		</tr>\n		<tr>\n			<td>\n			<table border="0" cellpadding="0" cellspacing="0" style="color:rgb(34\, 34\, 34)\; font-size:12px\; width:100%">\n				<tbody>\n					<tr>\n						<td style="background-color:transparent">\n						<div><span style="font-size:14px">When should you start collecting your Social Security Benefits? &nbsp\;That is the number one question on the minds of many folks these days. &nbsp\;You have paid a lot into Social Security\, but 95% of people don&#39\;t get the most from Social Security. &nbsp\;Selecting the wrong retirement age could cost you $200\,000. Our customized report runs over 5000 scenarios to help you select the best time to start drawing benefits. So don&#39\;t wait\, whether you&#39\;re single\, married\, widowed or divorced\, come in and get your Social Security Booster Plan done today! &nbsp\;Workshop free\, personalized Social Security Booster Plan\, $49.</span></div>\n						</td>\n					</tr>\n				</tbody>\n			</table>\n			</td>\n		</tr>\n	</tbody>\n</table>\n
LOCATION:3801 W. Lake Mary Blvd Unit 173 Lake Mary\, FL 32746 321-233-3533
UID:e.2138.8510
SEQUENCE:3
DTSTAMP:20260424T094050Z
URL:https://business.seminolebusiness.org/events/details/make-the-most-of-social-security-free-workshop-8510
END:VEVENT

END:VCALENDAR
