BEGIN:VCALENDAR
VERSION:2.0
PRODID:-//ChamberMaster//Event Calendar 2.0//EN
METHOD:PUBLISH
X-PUBLISHED-TTL:P3D
REFRESH-INTERVAL:P3D
CALSCALE:GREGORIAN
BEGIN:VEVENT
DTSTART:20180711T173000Z
DTEND:20180711T193000Z
X-MICROSOFT-CDO-ALLDAYEVENT:FALSE
SUMMARY:Making Difficult Choices - How to Choose Care and Treatments with Love & Compassion
DESCRIPTION:Please join us for an educational event and learn about making difficult choices\, including determing the factors of how to choose care and treatments with love and compassion.\n\n\n\nPresentation by Edith Gendron\, Chief of Operations at the Alzheimer's and Dementia Resource Center.
X-ALT-DESC;FMTTYPE=text/html:Please join us for an educational event and learn about making difficult choices\, including determing the factors of how to choose care and treatments with love and compassion.<br />\n<br />\nPresentation by Edith Gendron\, Chief of Operations at the Alzheimer&#39\;s and Dementia Resource Center.<br />\n&nbsp\;
LOCATION:Atria Park of Lake Forest 5433 W. State Rd. 46 Sanford\, FL 32771
UID:e.2138.9466
SEQUENCE:3
DTSTAMP:20260424T070159Z
URL:https://business.seminolebusiness.org/events/details/making-difficult-choices-how-to-choose-care-and-treatments-with-love-compassion-9466
END:VEVENT

END:VCALENDAR
