BEGIN:VCALENDAR
VERSION:2.0
PRODID:-//ChamberMaster//Event Calendar 2.0//EN
METHOD:PUBLISH
X-PUBLISHED-TTL:P3D
REFRESH-INTERVAL:P3D
CALSCALE:GREGORIAN
BEGIN:VEVENT
DTSTART:20170119T150000Z
DTEND:20170220T210000Z
X-MICROSOFT-CDO-ALLDAYEVENT:FALSE
SUMMARY:Margaret Noel
DESCRIPTION:January 19 - February 20\, 2017\n\nOpening Reception: January 19 from 5 p.m. - 7 p.m. \n\n\n\nOur exhibit season continues with a series of plein air metalpoint and ink drawings by Margaret Noel.    Margaret Noel received her M.F.A. in painting from the New York Studio School in 2005 and she presently divides her time between teaching drawing and mixed media at Kutztown University of Pennsylvania and creating work in her Brooklyn studio.  Noel's drawings\, paintings\, and collages have been featured in numerous exhibitions\, including an encaustic show at The Curator Gallery in Chelsea\, New York\, a solo show at The Durham Art Council\, NC\, and a public art installation at the Ulrich Museum of Art in Wichita\, KS.
X-ALT-DESC;FMTTYPE=text/html:January 19 - February 20\, 2017<br />\nOpening Reception: January 19 from 5&nbsp\;p.m.&nbsp\;- 7&nbsp\;p.m.&nbsp\;<br />\n<br />\nOur exhibit season continues with a series of plein air metalpoint and ink drawings by Margaret Noel. &nbsp\;&nbsp\;&nbsp\;Margaret Noel received her M.F.A. in painting from the New York Studio School in 2005 and she presently divides her time between teaching drawing and mixed media at Kutztown University of Pennsylvania and creating work in her Brooklyn studio.&nbsp\; Noel&rsquo\;s drawings\, paintings\, and collages have been featured in numerous exhibitions\, including an encaustic show at The Curator Gallery in Chelsea\, New York\, a solo show at The Durham Art Council\, NC\, and a public art installation at the Ulrich Museum of Art in Wichita\, KS.
LOCATION:Seminole State College - Sanford/Lake Mary Campus Center for Fine and Performing Arts (G-101)
UID:e.2138.4866
SEQUENCE:3
DTSTAMP:20260423T144222Z
URL:https://business.seminolebusiness.org/events/details/margaret-noel-4866
END:VEVENT

END:VCALENDAR
