BEGIN:VCALENDAR
VERSION:2.0
PRODID:-//ChamberMaster//Event Calendar 2.0//EN
METHOD:PUBLISH
X-PUBLISHED-TTL:P3D
REFRESH-INTERVAL:P3D
CALSCALE:GREGORIAN
BEGIN:VEVENT
DTSTART:20180605T220000Z
DTEND:20180606T010000Z
X-MICROSOFT-CDO-ALLDAYEVENT:FALSE
SUMMARY:Market update and outlook with J.P. Morgan\, hosted by Financial Advisor Brendan Jones
DESCRIPTION:LIMITED SEATING AVAILABLE\n\n\n\nPlease join us to hear insights on today's most critical economic and investment topics from Tyler Schlater\, Vice President\, with J.P. Morgan Asset Management. Tyler will share thoughts on the current economic landscape and outlook for the remainder of 2018\, discuss key drivers and trends taking place in the markets and answer your most pressing questions. \n\nHosting the event will be Financial Advisor Brendan Jones of Edward Jones.\n\nDinner will be served. RSVP to Brendan's office at 321 207 0958 by Friday\, June 1\, 2018. Guests are welcome. We hope you can join us!
X-ALT-DESC;FMTTYPE=text/html:<p>LIMITED SEATING AVAILABLE<br />\n<br />\nPlease join us to hear insights on today&rsquo\;s most critical economic and investment topics from Tyler Schlater\, Vice President\, with J.P. Morgan Asset Management. Tyler will share thoughts on the current economic landscape and outlook for the remainder of 2018\, discuss key drivers and trends taking place in the markets and answer your most pressing questions.&nbsp\;</p>\n\n<p>Hosting the event will be Financial Advisor Brendan Jones of Edward Jones.</p>\n\n<p>Dinner will be served. RSVP to Brendan&rsquo\;s office at 321&minus\;207&minus\;0958 by Friday\,&nbsp\;June 1\, 2018. Guests are welcome. We hope you can join us!</p>\n
LOCATION:Stonewood Grill & Tavern 1210 South International Parkway Heathrow\, FL 32746
UID:e.2138.9411
SEQUENCE:3
DTSTAMP:20260424T083845Z
URL:https://business.seminolebusiness.org/events/details/market-update-and-outlook-with-j-p-morgan-hosted-by-financial-advisor-brendan-jones-9411
END:VEVENT

END:VCALENDAR
