BEGIN:VCALENDAR
VERSION:2.0
PRODID:-//ChamberMaster//Event Calendar 2.0//EN
METHOD:PUBLISH
X-PUBLISHED-TTL:P3D
REFRESH-INTERVAL:P3D
CALSCALE:GREGORIAN
BEGIN:VEVENT
DTSTART:20180404T140000Z
DTEND:20180404T170000Z
X-MICROSOFT-CDO-ALLDAYEVENT:FALSE
SUMMARY:Mind\, Body\, & Spirit: A Celebration of Seniors
DESCRIPTION:The City of Lake Mary is proud to host an event that showcases the services\, physicians\, and activities available to our elder citizens in our 2nd annual celebration honoring their mind\, body and spirit!\n\n\n\n \n\n\n\nFREE Admission & Parking\n\n\n\n \n\n\n\nFor Information about becoming a vendor or sponsorship opportunities please contact Deb at 407.585.1466.
X-ALT-DESC;FMTTYPE=text/html:<div>\n<div><span style="font-family:inherit">The City of Lake Mary is proud to host an event that showcases the services\, physicians\, and activities available to our elder citizens in our 2nd annual celebration honoring their mind\, body and spirit!</span></div>\n</div>\n\n<div>\n<div>&nbsp\;</div>\n</div>\n\n<div>\n<div><span style="font-family:inherit"><strong>FREE </strong>Admission &amp\; Parking</span></div>\n</div>\n\n<div>\n<div>&nbsp\;</div>\n</div>\n\n<div>\n<div><span style="font-family:inherit">For Information about becoming a vendor or sponsorship opportunities please contact <strong>Deb </strong>at <strong>407.585.1466</strong>.</span></div>\n</div>\n
LOCATION:Lake Mary Events Center 260 N. Country Club Road Lake Mary\, FL 32746
UID:e.2138.8684
SEQUENCE:3
DTSTAMP:20260424T120614Z
URL:https://business.seminolebusiness.org/events/details/mind-body-spirit-a-celebration-of-seniors-8684
END:VEVENT

END:VCALENDAR
