BEGIN:VCALENDAR
VERSION:2.0
PRODID:-//ChamberMaster//Event Calendar 2.0//EN
METHOD:PUBLISH
X-PUBLISHED-TTL:P3D
REFRESH-INTERVAL:P3D
CALSCALE:GREGORIAN
BEGIN:VEVENT
DTSTART:20170316T173000Z
DTEND:20170316T200000Z
X-MICROSOFT-CDO-ALLDAYEVENT:FALSE
SUMMARY:Minority Certifications for Business Contracts with the Government and Private Sector/ Certificaciones Minoritarias para Contratos con el Gobierno y el Sector Privado
DESCRIPTION:Learn about the different types of minority certifications\, their benefits and steps to obtain contracts with the government and the private sector.\n\n\n\n\n\nAprenda sobre los diferentes tipos de certificaciones minoritarias\, sus beneficios y pasos a seguir para obtener contratos con el gobierno y el sector privado.
X-ALT-DESC;FMTTYPE=text/html:Learn about the different types of minority certifications\, their benefits and steps to obtain contracts with the government and the private sector.<br />\n<br />\n<br />\nAprenda sobre los diferentes tipos de certificaciones minoritarias\, sus beneficios y pasos a seguir para obtener contratos con el gobierno y el sector privado.
LOCATION:National Entrepreneur Center- Inside the Fashion Square Mall 3201 East Colonial Drive Orlando\, FL 32803
UID:e.2138.6681
SEQUENCE:3
DTSTAMP:20260423T181101Z
URL:https://business.seminolebusiness.org/events/details/minority-certifications-for-business-contracts-with-the-government-and-private-sector-certificaciones-minoritarias-para-contratos-con-el-gobierno-y-el-sector-privado-6681
END:VEVENT

END:VCALENDAR
