BEGIN:VCALENDAR
VERSION:2.0
PRODID:-//ChamberMaster//Event Calendar 2.0//EN
METHOD:PUBLISH
X-PUBLISHED-TTL:P3D
REFRESH-INTERVAL:P3D
CALSCALE:GREGORIAN
BEGIN:VEVENT
DTSTART:20160506T210000Z
DTEND:20160507T000000Z
X-MICROSOFT-CDO-ALLDAYEVENT:FALSE
SUMMARY:Mom's Night Out
DESCRIPTION:
X-ALT-DESC;FMTTYPE=text/html:
LOCATION:Seminole Towne Center - Center Court
UID:e.2138.4444
SEQUENCE:3
DTSTAMP:20260426T000815Z
URL:https://business.seminolebusiness.org/events/details/mom-s-night-out-05-06-2016-4444
END:VEVENT

END:VCALENDAR
