BEGIN:VCALENDAR
VERSION:2.0
PRODID:-//ChamberMaster//Event Calendar 2.0//EN
METHOD:PUBLISH
X-PUBLISHED-TTL:P3D
REFRESH-INTERVAL:P3D
CALSCALE:GREGORIAN
BEGIN:VEVENT
DTSTART:20180511T210000Z
DTEND:20180511T230000Z
X-MICROSOFT-CDO-ALLDAYEVENT:FALSE
SUMMARY:Mom's Night Out
DESCRIPTION:Seminole Towne Center is proud to present our Annual "Mom's Night Out\," an event that will offer moms the opportunity to enjoy social networking\, get the latest on women's issues\, special discounts\, giveaways and more.\n\nMom's Night Out attendees will experience an evening filled with giveaways\, fashion tips and more! Some event activities may include: Wine tasting and light fare\, Entertaining ideas\, Fashion Tips\, Product demonstrations\,
X-ALT-DESC;FMTTYPE=text/html:Seminole Towne Center is proud to present our Annual &ldquo\;Mom&rsquo\;s Night Out\,&rdquo\; an event that will offer moms the opportunity to enjoy social networking\, get the latest on women&rsquo\;s issues\, special discounts\, giveaways and more.<br />\nMom&rsquo\;s Night Out attendees will experience an evening filled with giveaways\, fashion tips and more! Some event activities may include: Wine tasting and light fare\, Entertaining ideas\, Fashion Tips\, Product demonstrations\,
LOCATION:Seminole Towne Center Center Court 200 Towne Center Circle Sanford\, FL 32771
UID:e.2138.8811
SEQUENCE:3
DTSTAMP:20260424T101824Z
URL:https://business.seminolebusiness.org/events/details/mom-s-night-out-8811
END:VEVENT

END:VCALENDAR
