BEGIN:VCALENDAR
VERSION:2.0
PRODID:-//ChamberMaster//Event Calendar 2.0//EN
METHOD:PUBLISH
X-PUBLISHED-TTL:P3D
REFRESH-INTERVAL:P3D
CALSCALE:GREGORIAN
BEGIN:VEVENT
DTSTART:20261117T163000Z
DTEND:20261117T173000Z
X-MICROSOFT-CDO-ALLDAYEVENT:FALSE
SUMMARY:Monthly Alzheimer's & Dementia Support Group
DESCRIPTION:CAREGIVER SUPPORT GROUP\n\nSTARTING TUESDAY\, MAY 19TH | 11:30am - 12:30pm\n\nRSVP BY MAY 15TH\n\n\n\nCaring for a loved one with memory loss can feel overwhelming but you don't have to\n\nnavigate it alone. Beginning May 19 and continuing every third Tuesday of the month\,\n\njoin our compassionate\, professionally facilitated caregiver support group in the Cordova\n\nBuilding\, led by ComForCare. Connect with others\, gain practical guidance\, and enjoy a\n\nlight lunch while discovering trusted local Alzheimer's and dementia care resources.
X-ALT-DESC;FMTTYPE=text/html:<span style="font-family:arial\,helvetica\,sans-serif">CAREGIVER SUPPORT GROUP<br />\nSTARTING TUESDAY\, MAY 19TH | 11:30am - 12:30pm<br />\nRSVP BY MAY 15TH<br />\n<br />\nCaring for a loved one with memory loss can feel overwhelming&mdash\;but you don&rsquo\;t have to<br />\nnavigate it alone. Beginning May 19 and continuing every third Tuesday of the month\,<br />\njoin our compassionate\, professionally facilitated caregiver support group in the Cordova<br />\nBuilding\, led by ComForCare. Connect with others\, gain practical guidance\, and enjoy a<br />\nlight lunch while discovering trusted local Alzheimer&rsquo\;s and dementia care resources.</span><br />\n&nbsp\;
LOCATION:Grand Living Park at Lake Mary 1021 Royal Gardens Circle\, Lake Mary\, FL 32746 (386) 339-4197
UID:e.2138.42483
SEQUENCE:3
DTSTAMP:20260422T185707Z
URL:https://business.seminolebusiness.org/events/details/monthly-alzheimer-s-dementia-support-group-11-17-2026-42483
END:VEVENT

END:VCALENDAR
