BEGIN:VCALENDAR
VERSION:2.0
PRODID:-//ChamberMaster//Event Calendar 2.0//EN
METHOD:PUBLISH
X-PUBLISHED-TTL:P3D
REFRESH-INTERVAL:P3D
CALSCALE:GREGORIAN
BEGIN:VEVENT
DTSTART;VALUE=DATE:20171006
DTEND;VALUE=DATE:20171007
TRANSP:TRANSPARENT
X-MICROSOFT-CDO-ALLDAYEVENT:TRUE
SUMMARY:More than Dough: Pink Ribbon Bagel Drive
DESCRIPTION:Come out to Panera Bread and get your Pink Ribbon Bagel. 100% of the proceeds from every Pink Ribbon Bagel sold on October 6th and 25¢ from every Pink Ribbon Bagel sold in the month of October will be donated to Orlando Health UF Health Cancer Center.\n\nDon't worry\, if you cant make it\, all proceeds collected in the Operation Dough-Nation Community Breadboxes? throughout the entire month of October will benefit Orlando Health UF Health Cancer Center as well!
X-ALT-DESC;FMTTYPE=text/html:<span style="font-family:cambria\,serif\;">Come out to Panera Bread and get your Pink Ribbon Bagel. 100% of the proceeds from every Pink Ribbon Bagel sold on October 6<sup>th</sup> and 25¢ from every Pink Ribbon Bagel sold in the month of October will be donated to Orlando Health UF Health Cancer Center.<br>\nDon't worry\, if you cant make it\, all proceeds collected in the Operation Dough-Nation Community Breadboxes? throughout the entire month of October will benefit Orlando Health UF Health Cancer Center as well!</span><br>\n<br>\n&nbsp\;
LOCATION:Panera Bread
UID:e.2138.8258
SEQUENCE:3
DTSTAMP:20260424T043522Z
URL:https://business.seminolebusiness.org/events/details/more-than-dough-pink-ribbon-bagel-drive-8258
END:VEVENT

END:VCALENDAR
