BEGIN:VCALENDAR
VERSION:2.0
PRODID:-//ChamberMaster//Event Calendar 2.0//EN
METHOD:PUBLISH
X-PUBLISHED-TTL:P3D
REFRESH-INTERVAL:P3D
CALSCALE:GREGORIAN
BEGIN:VEVENT
DTSTART:20170420T210000Z
DTEND:20170421T000000Z
X-MICROSOFT-CDO-ALLDAYEVENT:FALSE
SUMMARY:MoreTclinics Patient Appreciation and Open House
DESCRIPTION:MoreTClinics   wants to invite you to Patient Appreciation an Open House! It will be a time of fun\, food\, drinks and display of services that make your qualify of life simply better. \n\n\n\nYou could win a FREE annual membership to the RDV SportsPlex!\n\n \n\nMoreTClinics   would like you to save the date Thursday\, April 20\, 2017\, attend our open house and patient appreciation day from (5pm-8pm). Located at 155 Cranes Roost Blvd.\, Suite 2060\, Altamonte Springs\, FL 32701 or call us at 407-949-0222\, register today on the web to win free products and services @ www.moretclinics.com. Like us on FB\, or register for our free E-Letter\, to start experiencing the benefits today!\n\n \n\nMoreTClinics   vision is to use our skills\, knowledge\, and enthusiasm to provides the highest quality hormone and anti-aging therapies in Central Florida. MoreTClinics   offers safe effective testosterone and specialty hormone therapies to men and women. Over the years we've realized that too many people suffer from the wrong diagnosis related to their hormones.  Many people wait years before doing anything about it or take the wrong therapies due to lack of knowledge on behalf of their provider. The most common reason why this happens so frequently is because providers who do not have extensive experience in this specialty mistake similar symptoms for other biological issues.  Whether you are male or female\, low testosterone and dysfunctional hormone balance can significantly alter the way you live your life. MoreTClinics   is here to help you get back to your old self again. We offer a number of treatment programs to go along with our testosterone therapies\, including:\n \n\n\n	\n		\n			\n			\n				Thyroid Therapy\n				Estrogen-Blocking\n				Sermorelin Peptide Therapies (HGH)\n				Weight Loss\n			\n			\n			\n			\n				Testosterone Alternative Plans\n				ED medications \n				Detox and Rejuvenation Therapies\n				Vitamin Injections and Supplementation\n			\n			\n		\n	\n\n\n \n\nMoreTClinics   proudly supports the first responder's\, Polic\, Fire and the LBGT community of Central Florida helping make our community safer and stronger\;
X-ALT-DESC;FMTTYPE=text/html:<h2 style="font-style:normal\; text-align:justify"><span style="font-size:14px"><strong>MoreTClinics &reg\; wants to invite you to Patient Appreciation an Open House!</strong> It will be a time of fun\, food\, drinks and display of services that make your qualify of life simply better.&nbsp\;<br />\n<br />\nYou could win a <strong>FREE</strong> annual membership to the <strong>RDV SportsPlex!</strong></span><br />\n&nbsp\;</h2>\n\n<h2 style="text-align:justify"><span style="color:black"><span style="font-family:arial\,sans-serif"><span style="font-size:12.0pt">MoreTClinics &reg\; would like you to save the date Thursday\, April 20\, 2017</span></span></span><span style="color:black"><span style="font-family:arial\,sans-serif"><span style="font-size:12pt">\, attend our open house and patient appreciation day from </span></span></span><span style="color:black"><span style="font-family:arial\,sans-serif"><span style="font-size:12.0pt">(5pm-8pm).</span></span></span><span style="color:black"><span style="font-family:arial\,sans-serif"><span style="font-size:12pt"> Located at </span></span></span><span style="font-family:arial\,sans-serif"><span style="font-size:12.0pt">155 Cranes Roost Blvd.\, Suite 2060</span></span><span style="font-family:arial\,sans-serif"><span style="font-size:12pt">\, </span></span><span style="font-family:arial\,sans-serif"><span style="font-size:12.0pt">Altamonte Springs\, FL 32701</span></span><span style="font-family:arial\,sans-serif"><span style="font-size:12pt"> or </span></span><span style="font-family:arial\,sans-serif"><span style="font-size:12.0pt"><strong>c<span style="color:black"><strong>a</strong>ll us at 407-949-0222\, </span></strong></span></span><strong><span style="color:black"><span style="font-family:arial\,sans-serif"><span style="font-size:12.0pt">r</span></span></span></strong><span style="color:black"><span style="font-family:arial\,sans-serif"><span style="font-size:12pt">egister today on the web to win free products and services </span></span></span><span style="color:black"><span style="font-family:arial\,sans-serif"><span style="font-size:12.0pt">@ <a href="http://www.moretclinics.com">www.moretclinics.com</a></span></span></span><span style="color:black"><span style="font-family:arial\,sans-serif"><span style="font-size:12pt">. Like us on </span></span></span><span style="color:black"><span style="font-family:arial\,sans-serif"><span style="font-size:12.0pt">FB</span></span></span><span style="color:black"><span style="font-family:arial\,sans-serif"><span style="font-size:12pt">\, or register for our </span></span></span><span style="color:black"><span style="font-family:arial\,sans-serif"><span style="font-size:12.0pt">free E-Letter</span></span></span><span style="color:black"><span style="font-family:arial\,sans-serif"><span style="font-size:12pt">\,<strong> to start experiencing the benefits today!</strong></span></span></span></h2>\n\n<h2 style="text-align:justify">&nbsp\;</h2>\n\n<h2 style="text-align:justify"><span style="color:black"><span style="font-family:arial\,sans-serif"><span style="font-size:12.0pt">MoreTClinics &reg\; </span></span></span><span style="color:black"><span style="font-family:arial\,sans-serif"><span style="font-size:12pt">vision is to use our skills\, knowledge\, and enthusiasm to provides the highest quality hormone and anti-aging therapies in Central Florida. </span></span></span><span style="color:black"><span style="font-family:arial\,sans-serif"><span style="font-size:12.0pt">MoreTClinics &reg\; </span></span></span><span style="color:black"><span style="font-family:arial\,sans-serif"><span style="font-size:12pt">offers safe effective testosterone and specialty hormone therapies to men and women. Over the years we&rsquo\;ve realized that too many people suffer from the wrong diagnosis related to their hormones. &nbsp\;Many people wait years before doing anything about it or take the wrong therapies due to lack of knowledge on behalf of their provider. The most common reason why this happens so frequently is because providers who do not have extensive experience in this specialty mistake similar symptoms for other biological issues. &nbsp\;Whether you are male or female\, low testosterone and dysfunctional hormone balance can significantly alter the way you live your life. </span></span></span><span style="color:black"><span style="font-family:arial\,sans-serif"><span style="font-size:12.0pt">MoreTClinics</span></span></span><span style="color:black"><span style="font-family:arial\,sans-serif"><span style="font-size:12pt"> &reg\; is here to help you get back to your old self again. We offer a number of treatment programs to go along with our testosterone therapies\, including:</span></span></span></h2>\n&nbsp\;\n\n<table border="0" cellpadding="0" style="background:rgb(249\, 249\, 249)\; border-spacing:0px\; font-stretch:inherit\; font-variant-numeric:inherit\; line-height:inherit\; width:808px">\n	<tbody>\n		<tr>\n			<td style="vertical-align:bottom">\n			<ul>\n				<li><em><span style="font-family:arial\,sans-serif"><span style="font-size:12.0pt"><a href="http://moretclinics.com/thyroid-therapy-plans/">Thyroid Therapy</a></span></span></em></li>\n				<li><em><span style="font-family:arial\,sans-serif"><span style="font-size:12.0pt"><a href="http://moretclinics.com/estrogen-treatment-testosterone-therapy-estrogen-blocking/">Estrogen-Blocking</a></span></span></em></li>\n				<li><em><span style="font-family:arial\,sans-serif"><span style="font-size:12.0pt">Sermorelin Peptide Therapies (HGH)</span></span></em></li>\n				<li><em><span style="font-family:arial\,sans-serif"><span style="font-size:12.0pt">Weight Loss</span></span></em></li>\n			</ul>\n			</td>\n			<td style="vertical-align:bottom">\n			<ul>\n				<li><em><span style="font-family:arial\,sans-serif"><span style="font-size:12.0pt"><a href="http://moretclinics.com/testosterone-alternative-plans/">Testosterone Alternative Plans</a></span></span></em></li>\n				<li><em><span style="font-family:arial\,sans-serif"><span style="font-size:12.0pt"><a href="http://moretclinics.com/hgh-plans-human-growth-hormone/">ED</a> medications </span></span></em></li>\n				<li><em><span style="font-family:arial\,sans-serif"><span style="font-size:12.0pt">Detox and Rejuvenation Therapies</span></span></em></li>\n				<li><em><span style="font-family:arial\,sans-serif"><span style="font-size:12.0pt">Vitamin Injections and Supplementation</span></span></em></li>\n			</ul>\n			</td>\n		</tr>\n	</tbody>\n</table>\n\n<p style="text-align:justify"><span style="font-size:14px">&nbsp\;<br />\n<strong><span style="color:black"><span style="font-family:arial\,sans-serif">MoreTClinics &reg\; proudly supports the first responder&rsquo\;s\, Polic\, Fire and the LBGT community of Central Florida helping make our community safer and stronger\;&nbsp\;</span></span></strong></span></p>\n
LOCATION:155 Cranes Roost Blvd\, Suite 2060 Altamonte Springs\, Florida 32701 Phone: (407) 949-0222 Fax: 407-674-2500
UID:e.2138.6414
SEQUENCE:3
DTSTAMP:20260423T193835Z
URL:https://business.seminolebusiness.org/events/details/moretclinics-patient-appreciation-and-open-house-6414
END:VEVENT

END:VCALENDAR
