BEGIN:VCALENDAR
VERSION:2.0
PRODID:-//ChamberMaster//Event Calendar 2.0//EN
METHOD:PUBLISH
X-PUBLISHED-TTL:P3D
REFRESH-INTERVAL:P3D
CALSCALE:GREGORIAN
BEGIN:VEVENT
DTSTART:20250906T220000Z
DTEND:20250907T000000Z
X-MICROSOFT-CDO-ALLDAYEVENT:FALSE
SUMMARY:Morris Family Art Exhibit - Traveling the World
DESCRIPTION:Please come to see the latest art that Deborah and her family have made this past year which includes art from their trips to Italy and Japan\, as well as art from Grandparents made many years ago.  Free art reception Saturday\, Sept 6 from 6-8pm at Jam Art Gallery in Casselberry.  Come and bring others who like supporting local artists and learn about the stories behind each piece.  Prints\, cards and originals will be available for sale.  Exhibit will be up the month of September.  Deborah is also part of the P.O.W. Artists who's mission is to share how art helps people heal. Light refreshments will be served.
X-ALT-DESC;FMTTYPE=text/html:Please come to see the latest art that Deborah and her family have made this past year which includes art from their trips to Italy and Japan\, as well as art from Grandparents made many years ago.&nbsp\; Free art reception Saturday\, Sept 6 from 6-8pm at Jam Art Gallery in Casselberry.&nbsp\; Come and bring others who like supporting local artists and learn about the stories behind each piece.&nbsp\; Prints\, cards and originals will be available for sale.&nbsp\; Exhibit will be up the month of September.&nbsp\; Deborah is also part of the P.O.W. Artists who&#39\;s mission is to share how art helps people heal. Light refreshments will be served.
LOCATION:Jam Art Gallery 304 Live Oaks Blvd Casselberry\, FL 32707
UID:e.2138.37843
SEQUENCE:3
DTSTAMP:20260423T071755Z
URL:https://business.seminolebusiness.org/events/details/morris-family-art-exhibit-traveling-the-world-37843
END:VEVENT

END:VCALENDAR
