BEGIN:VCALENDAR
VERSION:2.0
PRODID:-//ChamberMaster//Event Calendar 2.0//EN
METHOD:PUBLISH
X-PUBLISHED-TTL:P3D
REFRESH-INTERVAL:P3D
CALSCALE:GREGORIAN
BEGIN:VEVENT
DTSTART:20180630T150000Z
DTEND:20180630T170000Z
X-MICROSOFT-CDO-ALLDAYEVENT:FALSE
SUMMARY:Muffins and Mimosas Doterra Oil Party
DESCRIPTION:Come join us for Muffins and Mimosas. We will be using the top 10 Doterra oils to make and take home a blend customized just for you\, at only $5 each.  My daughter got me hooked on using the oils for various reasons. I'm tired of doctor's pushing pills for everything\, then having to take another pill to counter act the side effects of it. These are safe for children as well\, so come check it out. Learn how to make your family healthier\, naturally. I will have a drawing for a free paint class. One entry for each bottle purchased. Only $5 per bottle. I use a blend for back pain\, digestion\, allergies\, sinuses\, headaches\, sleep\, etc.\n\n(baby oils will be slightly more) Please go to our Facebook page\, events\, and mark yourself as going\, so we know how many to plan for. Hope to see you there! www.facebook.com/thisandthatstudios
X-ALT-DESC;FMTTYPE=text/html:<span style="color: rgb(29\, 33\, 41)\; font-family: helvetica\,arial\,sans-serif\; font-size: 14px\; background-color: transparent\;">Come join us for Muffins and Mimosas. We will be using the top 10 Doterra oils to make and take home a blend customized just for you\, at only $5 each.&nbsp\; My daughter got me hooked on using the oils for various reasons. I&rsquo\;m tired of&nbsp\;doctor&lsquo\;s pushing pills for everything\, then having to take another pill to counter act the side effects of it. These are safe for children as well\, so come check it out. Learn how to make your family healthier\, naturally. I will have a drawing for a free paint class. One entry for each bottle purchased. Only $5 per&nbsp\;bottle. I use a blend for back pain\, digestion\, allergies\, sinuses\, headaches\, sleep\, etc.<br />\n(baby oils will be slightly more) Please go to our Facebook page\, events\, and mark yourself as going\, so we know how many to plan for. Hope to see you there! www.facebook.com/thisandthatstudios</span>
LOCATION:This and That Studio 300 Saint Laurent Street Suite 148 Longwood\, Fl. 32750
UID:e.2138.9467
SEQUENCE:3
DTSTAMP:20260424T090114Z
URL:https://business.seminolebusiness.org/events/details/muffins-and-mimosas-doterra-oil-party-9467
END:VEVENT

END:VCALENDAR
