BEGIN:VCALENDAR
VERSION:2.0
PRODID:-//ChamberMaster//Event Calendar 2.0//EN
METHOD:PUBLISH
X-PUBLISHED-TTL:P3D
REFRESH-INTERVAL:P3D
CALSCALE:GREGORIAN
BEGIN:VEVENT
DTSTART:20190920T230000Z
DTEND:20190921T010000Z
X-MICROSOFT-CDO-ALLDAYEVENT:FALSE
SUMMARY:Music Trivia Night
DESCRIPTION:Get ready for a night of music and tough questions. This trivia night will include a wide variety of questions from different genres and eras. Don't be afraid to sing along if you want to.
X-ALT-DESC;FMTTYPE=text/html:Get ready for a night of music and tough questions. This trivia night will include a wide variety of questions from different genres and eras. Don&#39\;t be afraid to sing along if you want to.&nbsp\;
LOCATION:Boston Coffeehouse Altamonte Springs 851 S SR 434 suite 1190 Altamonte Springs\, FL 32714
UID:e.2138.16560
SEQUENCE:3
DTSTAMP:20260422T021432Z
URL:https://business.seminolebusiness.org/events/details/music-trivia-night-16560
END:VEVENT

END:VCALENDAR
