BEGIN:VCALENDAR
VERSION:2.0
PRODID:-//ChamberMaster//Event Calendar 2.0//EN
METHOD:PUBLISH
X-PUBLISHED-TTL:P3D
REFRESH-INTERVAL:P3D
CALSCALE:GREGORIAN
BEGIN:VEVENT
DTSTART:20181011T170000Z
DTEND:20181011T200000Z
X-MICROSOFT-CDO-ALLDAYEVENT:FALSE
SUMMARY:NAS Summit at Department of Health in Seminole County
DESCRIPTION:Babies can suffer Neonatal Abstinence Syndrome (NAS) when their mothers are addicted to or being treated with opioids during pregnancy.
X-ALT-DESC;FMTTYPE=text/html:Babies can suffer Neonatal Abstinence Syndrome (NAS) when their mothers are addicted to or being treated with opioids during pregnancy.
LOCATION:Florida Department of Health in Seminole County 400 West Airport Boulevard Sanford\, FL 32773
UID:e.2138.11806
SEQUENCE:3
DTSTAMP:20260424T023633Z
URL:https://business.seminolebusiness.org/events/details/nas-summit-at-department-of-health-in-seminole-county-10-11-2018-11806
END:VEVENT

END:VCALENDAR
