BEGIN:VCALENDAR
VERSION:2.0
PRODID:-//ChamberMaster//Event Calendar 2.0//EN
METHOD:PUBLISH
X-PUBLISHED-TTL:P3D
REFRESH-INTERVAL:P3D
CALSCALE:GREGORIAN
BEGIN:VEVENT
DTSTART:20190817T133000Z
DTEND:20190817T160000Z
X-MICROSOFT-CDO-ALLDAYEVENT:FALSE
SUMMARY:National Disc Golf Day
DESCRIPTION:National Disc Golf Day was Aug 3rd and to celebrate...\n\n\n\nLet's play a Family Round at a local disc golf course. Due to rain we rescheduled our game for Saturday Aug 17th! Message me if you want more info. We can meet a half hour before we start play\, for a quick lesson for anyone that needs it.\n\nLet's meet at Disc Golf Center in DeBary\, then we'll go across the street to River City Nature Park to play. \n\nIf you can't make our round\, just go out and play at any of the local courses near you.\n\nCheck out: dgcoursereview.com\n\nSearch for your city\, or zip code for nearby disc golf parks\n\n#NationalDiscGolfDay #GetOnCourse #JoinThePDGA
X-ALT-DESC;FMTTYPE=text/html:<span style="background-color:transparent\; color:rgb(29\, 33\, 41)\; font-family:helvetica\,arial\,sans-serif\; font-size:14px"><u><strong>National Disc Golf Day</strong></u>&nbsp\;was Aug 3rd&nbsp\;and to celebrate...</span><br />\n<br />\n<span style="background-color:transparent\; color:rgb(29\, 33\, 41)\; font-family:helvetica\,arial\,sans-serif\; font-size:14px">Let&#39\;s play a Family Round at a local disc golf course. </span><span style="color: rgb(29\, 33\, 41)\; font-family: helvetica\, arial\, sans-serif\; font-size: 14px\; background-color: rgb(255\, 255\, 255)\;">Due to rain we rescheduled our game for&nbsp\;</span><span style="color: rgb(29\, 33\, 41)\; font-family: helvetica\, arial\, sans-serif\; font-size: 14px\; background-color: rgb(255\, 255\, 255)\;">Saturda</span><span style="color: rgb(29\, 33\, 41)\; font-family: helvetica\, arial\, sans-serif\; font-size: 14px\; background-color: rgb(255\, 255\, 255)\;">y <strong>Aug 17th</strong>!&nbsp\;</span><span style="background-color:transparent\; color:rgb(29\, 33\, 41)\; font-family:helvetica\,arial\,sans-serif\; font-size:14px">Message me if you want more info. We can meet a half hour before we start play\, for a quick lesson for anyone that needs it.</span><br />\n<span style="background-color:transparent\; color:rgb(29\, 33\, 41)\; font-family:helvetica\,arial\,sans-serif\; font-size:14px">Let&#39\;s meet at Disc Golf Center in DeBary\, then we&#39\;ll go across the street to River City Nature Park to play.&nbsp\;</span><br />\n<span style="background-color:transparent\; color:rgb(29\, 33\, 41)\; font-family:helvetica\,arial\,sans-serif\; font-size:14px">If you can&#39\;t make our round\, just go out and play at any of the local courses near you.</span><br />\n<span style="background-color:transparent\; color:rgb(29\, 33\, 41)\; font-family:helvetica\,arial\,sans-serif\; font-size:14px">Check out: </span><a href="https://l.facebook.com/l.php?u=http%3A%2F%2Fdgcoursereview.com%2F%3Ffbclid%3DIwAR1P-pg9Lq-LenLh3jkhC4rLcn6CSGbE3_z5XardVClGw35Ht2itgzY8pfQ&amp\;h=AT2nacFky6w66uH1H0yQeU7LE7inBmlztvc8DTCGi2emcV3YBkjIDCrASxRt74W3ko8yR4y73X4evQgmXFQK3u-wlsNE2TCB_eB7VpXC0VZDpM0nGeqzip4vd3CoEeFimw" rel="nofollow" style="background-color: transparent\; color: rgb(56\, 88\, 152)\; cursor: pointer\; font-family: Helvetica\,Arial\,sans-serif\; font-size: 14px\; font-style: normal\; font-variant: normal\; font-weight: 400\; letter-spacing: normal\; orphans: 2\; text-align: left\; text-decoration: none\; text-indent: 0px\; text-transform: none\; -webkit-text-stroke-width: 0px\; white-space: pre-wrap\; word-spacing: 0px\;" target="_blank">dgcoursereview.com</a><br />\n<span style="background-color:transparent\; color:rgb(29\, 33\, 41)\; font-family:helvetica\,arial\,sans-serif\; font-size:14px">Search for your city\, or zip code for nearby disc golf parks</span><br />\n<a href="https://www.facebook.com/hashtag/nationaldiscgolfday" style="background-color: transparent\; color: rgb(56\, 88\, 152)\; cursor: pointer\; font-family: Helvetica\,Arial\,sans-serif\; font-size: 14px\; font-style: normal\; font-variant: normal\; font-weight: 400\; letter-spacing: normal\; orphans: 2\; text-align: left\; text-decoration: none\; text-indent: 0px\; text-transform: none\; -webkit-text-stroke-width: 0px\; white-space: pre-wrap\; word-spacing: 0px\;" target="_blank">#NationalDiscGolfDay</a><span style="background-color:transparent\; color:rgb(29\, 33\, 41)\; font-family:helvetica\,arial\,sans-serif\; font-size:14px"> </span><a href="https://www.facebook.com/hashtag/getoncourse" style="background-color: transparent\; color: rgb(56\, 88\, 152)\; cursor: pointer\; font-family: Helvetica\,Arial\,sans-serif\; font-size: 14px\; font-style: normal\; font-variant: normal\; font-weight: 400\; letter-spacing: normal\; orphans: 2\; text-align: left\; text-decoration: none\; text-indent: 0px\; text-transform: none\; -webkit-text-stroke-width: 0px\; white-space: pre-wrap\; word-spacing: 0px\;" target="_blank">#GetOnCourse</a><span style="background-color:transparent\; color:rgb(29\, 33\, 41)\; font-family:helvetica\,arial\,sans-serif\; font-size:14px"> </span><a href="https://www.facebook.com/hashtag/jointhepdga" style="background-color: transparent\; color: rgb(56\, 88\, 152)\; cursor: pointer\; font-family: Helvetica\,Arial\,sans-serif\; font-size: 14px\; font-style: normal\; font-variant: normal\; font-weight: 400\; letter-spacing: normal\; orphans: 2\; text-align: left\; text-decoration: none\; text-indent: 0px\; text-transform: none\; -webkit-text-stroke-width: 0px\; white-space: pre-wrap\; word-spacing: 0px\;" target="_blank">#JoinThePDGA</a>
LOCATION:Disc Golf Center 889 S Charles Richard Beall Blvd Ste 303\, DeBary\, Florida 32713
UID:e.2138.16245
SEQUENCE:3
DTSTAMP:20260422T045326Z
URL:https://business.seminolebusiness.org/events/details/national-disc-golf-day-16245
END:VEVENT

END:VCALENDAR
