BEGIN:VCALENDAR
VERSION:2.0
PRODID:-//ChamberMaster//Event Calendar 2.0//EN
METHOD:PUBLISH
X-PUBLISHED-TTL:P3D
REFRESH-INTERVAL:P3D
CALSCALE:GREGORIAN
BEGIN:VEVENT
DTSTART:20171003T213000Z
DTEND:20171004T000000Z
X-MICROSOFT-CDO-ALLDAYEVENT:FALSE
SUMMARY:National Night Out - City of Longwood
DESCRIPTION:This is a unique crime/drug prevention event hosted by the National Association of Town Watch and the City of Longwood with the mission of keeping children safe. Child safety is a number one priority for this event. Over 1\,000 people come to this event for a family night out. Some of the activities include:\n\n\n\n*Annual Police vs. Fire softball game\n\n*Neighborhood Watch information\, gun safety\n\n*Bounce houses and rock-climbing wall\n\n*FREE MEAL- hot dog\, water/soda\, side item\n\n\n\nList of confirmed vendors: addtional vendors -TBA\n\n	4 Rivers Smoke House\n	Chaz Lytle Baseball\n	City of Longwood CERT\n	City of Longwood COP\n	City of Longwood Farmers Market\n	City of Longwood Fire Department\n	City of Longwood Police Department\n	Eagle AeroSpace Military Academy\n	Feeding Children Everywhere\n	First Baptist Chruch Longwood\n	Fred's Market Restaurant\n	New York Life\n	Nu Natural\n	Olrando Bully Rescue\n	Pampered Chef\n	Positive Behavioral Solutions\n	Primary Care Access Network\n	Sams Club\n	Scensty\n	Serenity Now Yoga/Dance\n	Sky Power Sports\n	Strive Magazine\n	Take Stock in Children\n	The Annex Healthcare\n	Urban Ninja Athletics\n	Walgreens\n	Watson Realty Corp
X-ALT-DESC;FMTTYPE=text/html:This is a unique crime/drug prevention event hosted by the National Association of Town Watch and the City of Longwood with the mission of keeping children safe. Child safety is a number one priority for this event. Over 1\,000 people come to this event for a family night out. Some of the activities include:<br />\n<br />\n*Annual Police vs. Fire softball game<br />\n*Neighborhood Watch information\, gun safety<br />\n*Bounce houses and rock-climbing wall<br />\n*FREE MEAL- hot dog\, water/soda\, side item<br />\n<br />\nList of confirmed vendors: addtional vendors -TBA\n<ul>\n	<li>4 Rivers Smoke House</li>\n	<li>Chaz Lytle Baseball</li>\n	<li>City of Longwood CERT</li>\n	<li>City of Longwood COP</li>\n	<li>City of Longwood Farmers Market</li>\n	<li>City of Longwood Fire Department</li>\n	<li>City of Longwood Police Department</li>\n	<li>Eagle AeroSpace Military Academy</li>\n	<li>Feeding Children Everywhere</li>\n	<li>First Baptist Chruch Longwood</li>\n	<li>Fred&#39\;s Market Restaurant</li>\n	<li>New York Life</li>\n	<li>Nu Natural</li>\n	<li>Olrando Bully Rescue</li>\n	<li>Pampered Chef</li>\n	<li>Positive Behavioral Solutions</li>\n	<li>Primary Care Access Network</li>\n	<li>Sams Club</li>\n	<li>Scensty</li>\n	<li>Serenity Now Yoga/Dance</li>\n	<li>Sky Power Sports</li>\n	<li>Strive Magazine</li>\n	<li>Take Stock in Children</li>\n	<li>The Annex Healthcare</li>\n	<li>Urban Ninja Athletics</li>\n	<li>Walgreens</li>\n	<li>Watson Realty Corp</li>\n</ul>\n
LOCATION:599 Longdale Ave\, 32750 Longwood\,
UID:e.2138.8267
SEQUENCE:3
DTSTAMP:20260424T043834Z
URL:https://business.seminolebusiness.org/events/details/national-night-out-city-of-longwood-8267
END:VEVENT

END:VCALENDAR
