BEGIN:VCALENDAR
VERSION:2.0
PRODID:-//ChamberMaster//Event Calendar 2.0//EN
METHOD:PUBLISH
X-PUBLISHED-TTL:P3D
REFRESH-INTERVAL:P3D
CALSCALE:GREGORIAN
BEGIN:VEVENT
DTSTART:20160430T120000Z
DTEND:20160430T180000Z
X-MICROSOFT-CDO-ALLDAYEVENT:FALSE
SUMMARY:National Rebuilding Together Day-International Facilities Management Association-Orlando Chapter
DESCRIPTION:IFMA Orlando and its community partner\, Rebuilding Together Orlando\, team up to support a local homeowner(s) in need.  IFMA Orlando members used their Facility management skills and knowledge to give back to the community.  Volunteers welcomed!  Breakfast and lunch is provided.
X-ALT-DESC;FMTTYPE=text/html:IFMA Orlando and its community partner\, Rebuilding Together Orlando\, team up to support a local homeowner(s) in need. &nbsp\;IFMA Orlando members used their Facility management skills and knowledge to give back to the community. &nbsp\;Volunteers welcomed! &nbsp\;Breakfast and lunch is provided.
LOCATION:Apopka\, FL
UID:e.2138.4393
SEQUENCE:3
DTSTAMP:20260426T014010Z
URL:https://business.seminolebusiness.org/events/details/national-rebuilding-together-day-international-facilities-management-association-orlando-chapter-04-30-2016-4393
END:VEVENT

END:VCALENDAR
