BEGIN:VCALENDAR
VERSION:2.0
PRODID:-//ChamberMaster//Event Calendar 2.0//EN
METHOD:PUBLISH
X-PUBLISHED-TTL:P3D
REFRESH-INTERVAL:P3D
CALSCALE:GREGORIAN
BEGIN:VEVENT
DTSTART;VALUE=DATE:20250515
DTEND;VALUE=DATE:20250516
TRANSP:TRANSPARENT
X-MICROSOFT-CDO-ALLDAYEVENT:TRUE
SUMMARY:National Salvation Army Week at The Salvation Army of Seminole County
DESCRIPTION:The Salvation Army of Seminole County is inviting everyone to come and tour our facility on May 15\, 2025 to celebrate National Salvation Army Week.  To learn and hear about our Programs to the Community\, Volunteer Opportunities\, and learn about our need for a Community Response Vehicle for Emergency Disaster Services.\n\n\n\nRefreshments will be served.
X-ALT-DESC;FMTTYPE=text/html:The Salvation Army of Seminole County is inviting everyone to come and tour our facility on May 15\, 2025 to celebrate National Salvation Army Week.&nbsp\; To learn and hear about our Programs to the Community\, Volunteer Opportunities\, and learn about our need for a Community Response Vehicle for Emergency Disaster Services.<br />\n<br />\nRefreshments will be served.
LOCATION:The Salvation Army of Seminole County 700 W. 24th Street Sanford\, Fl 32771
UID:e.2138.36950
SEQUENCE:3
DTSTAMP:20260423T140252Z
URL:https://business.seminolebusiness.org/events/details/national-salvation-army-week-at-the-salvation-army-of-seminole-county-36950
END:VEVENT

END:VCALENDAR
