BEGIN:VCALENDAR
VERSION:2.0
PRODID:-//ChamberMaster//Event Calendar 2.0//EN
METHOD:PUBLISH
X-PUBLISHED-TTL:P3D
REFRESH-INTERVAL:P3D
CALSCALE:GREGORIAN
BEGIN:VEVENT
DTSTART:20190629T150000Z
DTEND:20190629T180000Z
X-MICROSOFT-CDO-ALLDAYEVENT:FALSE
SUMMARY:Neighborhood Celebration - Athletic Club at Heathrow
DESCRIPTION:You and your family are invited to launch the New & Improved Athletic Club at Heathrow. Complimentary BBQ+ Activities for the whole family. For reservations call 407-333-1450. membership@concertgolfclubs.com
X-ALT-DESC;FMTTYPE=text/html:You and your family are invited to launch the New &amp\; Improved Athletic Club at Heathrow. Complimentary BBQ+ Activities for the whole family. For reservations call 407-333-1450. membership@concertgolfclubs.com&nbsp\;
LOCATION:140 Tournament Drive - Heathrow\, FL 32746
UID:e.2138.15216
SEQUENCE:3
DTSTAMP:20260422T063511Z
URL:https://business.seminolebusiness.org/events/details/neighborhood-celebration-athletic-club-at-heathrow-15216
END:VEVENT

END:VCALENDAR
