BEGIN:VCALENDAR
VERSION:2.0
PRODID:-//ChamberMaster//Event Calendar 2.0//EN
METHOD:PUBLISH
X-PUBLISHED-TTL:P3D
REFRESH-INTERVAL:P3D
CALSCALE:GREGORIAN
BEGIN:VEVENT
DTSTART:20190723T223000Z
DTEND:20190724T003000Z
X-MICROSOFT-CDO-ALLDAYEVENT:FALSE
SUMMARY:Neoworks Inspired Networking - July Edition "Prospering in the New Job Market"
DESCRIPTION:Neoworks Inspired Networking\n\nPROSPERING IN THE NEW JOB MARKET\n\n\n\nOur speaker\, James Crim\, Business Consultant with Career Source\, is also a father\, husband\, and world traveler. His mission in life is to help people and businesses achieve greatness. At Career Source\, he connects growing businesses with IT and Financial professionals throughout the Central Florida community. His presentation\, Prospering in the New Job Market\, will guide employers and employee's on what has changed in the job market over the last few years and what we must do to thrive in the future.\n\n\n\nJoin us after work in our Studios to catch up with colleagues and friends\, leaders and newcomers\, growing strong businesses in our Central Florida Community. Before and after the presentation we'll have plenty of time to share creative ideas\, opportunities\, and relaxed\, professional connections. Beverages by Oviedo Brewing.\n\n\n\nMany thanks to OVIEDO BREWING\, our beverage sponsor providing delicious brews of their making.\n\nLet us know you're coming here on Meetup or on Facebook
X-ALT-DESC;FMTTYPE=text/html:<p><strong>Neoworks Inspired Networking</strong></p>\n\n<p>PROSPERING IN THE NEW JOB MARKET<br />\n<br />\nOur speaker\, James Crim\, Business Consultant with Career Source\, is also a father\, husband\, and world traveler. His mission in life is to help people and businesses achieve greatness. At Career Source\, he connects growing businesses with IT and Financial professionals throughout the Central Florida community. His presentation\,&nbsp\;<em>Prospering in the New Job Market</em>\, will guide employers and employee&rsquo\;s on what has changed in the job market over the last few years and what we must do to thrive in the future.<br />\n<br />\nJoin us after work in our Studios to catch up with colleagues and friends\, leaders and newcomers\, growing strong businesses in our Central Florida Community. Before and after the presentation we&#39\;ll have plenty of time to share creative ideas\, opportunities\, and relaxed\, professional connections. Beverages by Oviedo Brewing.<br />\n<br />\nMany thanks to&nbsp\;<strong>OVIEDO BREWING</strong>\, our beverage sponsor providing delicious brews of their making.</p>\n\n<p>Let us know you&#39\;re coming here on&nbsp\;<a href="http://bit.ly/NeoworksIN3">Meetup</a>&nbsp\;or on&nbsp\;<a href="https://www.facebook.com/events/446607685946936/">Facebook</a></p>\n
LOCATION:1485 Oviedo Mall Blvd. Oviedo\, FL 32765 Neoware Studios is located at the Oviedo Mall across the hall from Paul Mitchell.
UID:e.2138.16242
SEQUENCE:3
DTSTAMP:20260422T050409Z
URL:https://business.seminolebusiness.org/events/details/neoworks-inspired-networking-july-edition-prospering-in-the-new-job-market-16242
END:VEVENT

END:VCALENDAR
