BEGIN:VCALENDAR
VERSION:2.0
PRODID:-//ChamberMaster//Event Calendar 2.0//EN
METHOD:PUBLISH
X-PUBLISHED-TTL:P3D
REFRESH-INTERVAL:P3D
CALSCALE:GREGORIAN
BEGIN:VEVENT
DTSTART:20160909T213000Z
DTEND:20160910T003000Z
X-MICROSOFT-CDO-ALLDAYEVENT:FALSE
SUMMARY:Networking Bowling Bash-International Facilities Management Association-Orlando chapter
DESCRIPTION:Bowling event with networking\, food\, drinks and prizes!
X-ALT-DESC;FMTTYPE=text/html:Bowling event with networking\, food\, drinks and prizes!
LOCATION:Colonial Lanes 400 N. Primrose Orlando\, FL
UID:e.2138.4833
SEQUENCE:3
DTSTAMP:20260425T175855Z
URL:https://business.seminolebusiness.org/events/details/networking-bowling-bash-international-facilities-management-association-orlando-chapter-09-09-2016-4833
END:VEVENT

END:VCALENDAR
