BEGIN:VCALENDAR
VERSION:2.0
PRODID:-//ChamberMaster//Event Calendar 2.0//EN
METHOD:PUBLISH
X-PUBLISHED-TTL:P3D
REFRESH-INTERVAL:P3D
CALSCALE:GREGORIAN
BEGIN:VEVENT
DTSTART:20180111T160000Z
DTEND:20180111T180000Z
X-MICROSOFT-CDO-ALLDAYEVENT:FALSE
SUMMARY:Next Deal Smart Leads for Realtors
DESCRIPTION:You don't want to miss Capital Land Settlement's Fantastic Kickoff 2018 Lunch n Learn January 11\, 2018  from 11 a.m. to 1 p.m.!  Be the real estate top producer month after month in 2018 and every year thereafter!\n\n\n\nOur new\, cutting edge smart leads program does just that!  You will be amazed at all the it offers you and our AI is out of this world to build your real estae empire!  Everyone is welcome to our Lunch n Learn to learn more!\n\n1. CUTTING EDGE SMART REAL ESTATE LEADS THAT MAKE YOU MONTHLY TOP PRODUCER\n\n2. STAND OUT AND BE THE FACE OF YOUR TERRIORTIES\n\n3. MAKE OUR AI PROGRAM WORK FOR YOU
X-ALT-DESC;FMTTYPE=text/html:<p>You don&#39\;t want to miss Capital Land Settlement&#39\;s Fantastic Kickoff 2018 Lunch n Learn January 11\, 2018&nbsp\; from 11 a.m. to 1 p.m.!&nbsp\; Be the real estate top producer month after month in 2018 and every year thereafter!<br />\n<br />\nOur new\, cutting edge smart leads program does just that!&nbsp\; You will be amazed at all the it offers you and our AI is out of this world to build your real estae empire!&nbsp\; Everyone is welcome to our Lunch n Learn to learn more!</p>\n\n<p>1.&nbsp\;CUTTING&nbsp\;EDGE SMART REAL&nbsp\;ESTATE&nbsp\;LEADS&nbsp\;THAT MAKE YOU MONTHLY TOP PRODUCER</p>\n\n<p>2.&nbsp\;STAND&nbsp\;OUT&nbsp\;AND&nbsp\;BE&nbsp\;THE&nbsp\;FACE&nbsp\;OF&nbsp\;YOUR TERRIORTIES</p>\n\n<p>3.&nbsp\;MAKE&nbsp\;OUR&nbsp\;AI&nbsp\;PROGRAM&nbsp\;WORK&nbsp\;FOR&nbsp\;YOU</p>\n
LOCATION:Lake Mary Hilton Garden Inn 705 Currency Circle Lake Mary FL 32746
UID:e.2138.8647
SEQUENCE:3
DTSTAMP:20260424T094341Z
URL:https://business.seminolebusiness.org/events/details/next-deal-smart-lead-for-capital-land-clients-8647
END:VEVENT

END:VCALENDAR
