BEGIN:VCALENDAR
VERSION:2.0
PRODID:-//ChamberMaster//Event Calendar 2.0//EN
METHOD:PUBLISH
X-PUBLISHED-TTL:P3D
REFRESH-INTERVAL:P3D
CALSCALE:GREGORIAN
BEGIN:VEVENT
DTSTART:20170325T233000Z
DTEND:20170326T023000Z
X-MICROSOFT-CDO-ALLDAYEVENT:FALSE
SUMMARY:Night Hike at The Central Florida Zoo!
DESCRIPTION:March 25\, 2017\n\nCheck in begins at 7:30 p.m.                         \n\nProgram: Begins at 8:00 p.m.\n\nAnnual Pass Holders: $15 adults / $10 children (ages 5-12)             \n\nNon-Pass Holders: $20 adults / $15 children (ages 5-12)\n\nMust be 5 years or older\n\nTour approximately 2 hours                           \n\nRegistration required \n\nExperience the sights and sounds of the Zoo at night during this exciting nocturnal adventure! The evening will begin in the Discovery Center with up close animal encounters. Fascinating night life will come to light as we venture into the Zoo for a guided flashlight tour and explore the Zoo after dark. This is a great program for families\, but because it is a late night program\, children must be five years or older to attend. Registration is available online at www.centralfloridazoo.org or call 407.323.4450 ext. 123 or email education@centralfloridazoo.org   Reservations and payment required by March 17\, 2017.
X-ALT-DESC;FMTTYPE=text/html:<strong><span style="font-family:arial narrow\,sans-serif">March 25\, 2017<br />\nCheck in begins at 7:30 p.m.&nbsp\;&nbsp\;&nbsp\;&nbsp\;&nbsp\;&nbsp\;&nbsp\; &nbsp\;&nbsp\;&nbsp\;&nbsp\;&nbsp\;&nbsp\;&nbsp\;&nbsp\;&nbsp\;&nbsp\;&nbsp\;&nbsp\;&nbsp\;&nbsp\;&nbsp\;&nbsp\;&nbsp\;<br />\nProgram: Begins at 8:00 p.m.<br />\nAnnual Pass Holders: $15 adults / $10 children (ages 5-12)&nbsp\;&nbsp\;&nbsp\;&nbsp\;&nbsp\;&nbsp\;&nbsp\;&nbsp\;&nbsp\;&nbsp\;&nbsp\;&nbsp\; </span></strong><br />\n<strong><span style="font-family:arial narrow\,sans-serif">Non-Pass Holders: $20 adults / $15 children (ages 5-12)<br />\nMust be 5 years or older</span></strong><br />\n<strong><span style="font-family:arial narrow\,sans-serif">Tour approximately 2 hours &nbsp\; &nbsp\; &nbsp\; &nbsp\; &nbsp\; &nbsp\; &nbsp\; &nbsp\; &nbsp\; &nbsp\; &nbsp\; &nbsp\; &nbsp\;&nbsp\;</span></strong><br />\n<strong><span style="font-family:arial narrow\,sans-serif">Registration required </span></strong><br />\n<span style="font-family:arial narrow\,sans-serif">Experience the sights and sounds of the Zoo at night during this exciting nocturnal adventure! The evening will begin in the Discovery Center with up close animal encounters.&nbsp\;Fascinating night life will come to light as we venture into the Zoo for a guided flashlight tour and explore the Zoo after dark.&nbsp\;This is a great program for families\, but because it is a late night program\, children must be five years or older to attend.&nbsp\;Registration is available online at </span><a href="http://www.centralfloridazoo.org/"><span style="font-family:arial narrow\,sans-serif">www.centralfloridazoo.org</span></a><span style="font-family:arial narrow\,sans-serif"> or call 407.323.4450 ext. 123 or email </span><a href="mailto:education@centralfloridazoo.org"><span style="font-family:arial narrow\,sans-serif">education@centralfloridazoo.org</span></a><span style="font-family:arial narrow\,sans-serif"> &nbsp\; Reservations and payment required by March 17\, 2017. &nbsp\;</span>
LOCATION:The Central Florida Zoo and Botanical Gardens 3755 NW Hwy 17-92 Sanford\, FL 32771
UID:e.2138.6430
SEQUENCE:3
DTSTAMP:20260423T175145Z
URL:https://business.seminolebusiness.org/events/details/night-hike-at-the-central-florida-zoo-6430
END:VEVENT

END:VCALENDAR
