BEGIN:VCALENDAR
VERSION:2.0
PRODID:-//ChamberMaster//Event Calendar 2.0//EN
METHOD:PUBLISH
X-PUBLISHED-TTL:P3D
REFRESH-INTERVAL:P3D
CALSCALE:GREGORIAN
BEGIN:VEVENT
DTSTART:20140621T233000Z
DTEND:20140622T020000Z
X-MICROSOFT-CDO-ALLDAYEVENT:FALSE
SUMMARY:Night Hike at the Zoo!*
DESCRIPTION:Experience the sights and sounds of the Zoo at night during this exciting nocturnal adventure!  The evening will begin in the Discovery Center with up close animal encounters.  Fascinating night life will come to light as we venture into the Zoo for a guided flashlight tour and explore the Zoo after dark.  This is a great program for families\, but because it is a late night program\, children must be five years or older to attend.  Registration is available online at www.centralfloridazoo.org or call 407.323.4450 ext. 123 or email education@centralfloridazoo.org   Reservations and payment required by June 14\, 2014.  \n\nAnnual Pass Holders $15 adults/$10 children ages 5-12)             \nNon-Pass Holders $20 adults / $15 children (ages 5-12)\nCheck in begins at 7:30 p.m.\, program begins at 8:00 p.m. Tour is approximately 2 hours. Must be 5 years or older. Registration required.
X-ALT-DESC;FMTTYPE=text/html:Experience the sights and sounds of the Zoo at night during this exciting nocturnal adventure!  The evening will begin in the Discovery Center with up close animal encounters.  Fascinating night life will come to light as we venture into the Zoo for a guided flashlight tour and explore the Zoo after dark.  This is a great program for families\, but because it is a late night program\, children must be five years or older to attend.  Registration is available online at www.centralfloridazoo.org or call 407.323.4450 ext. 123 or email education@centralfloridazoo.org   Reservations and payment required by June 14\, 2014.  \n\nAnnual Pass Holders $15 adults/$10 children ages 5-12)             \nNon-Pass Holders $20 adults / $15 children (ages 5-12)\nCheck in begins at 7:30 p.m.\, program begins at 8:00 p.m. Tour is approximately 2 hours. Must be 5 years or older. Registration required.
LOCATION:I-4\, Exit 104
UID:e.2138.1427
SEQUENCE:3
DTSTAMP:20260420T095418Z
URL:https://business.seminolebusiness.org/events/details/night-hike-at-the-zoo-06-21-2014-1427
END:VEVENT

END:VCALENDAR
