BEGIN:VCALENDAR
VERSION:2.0
PRODID:-//ChamberMaster//Event Calendar 2.0//EN
METHOD:PUBLISH
X-PUBLISHED-TTL:P3D
REFRESH-INTERVAL:P3D
CALSCALE:GREGORIAN
BEGIN:VEVENT
DTSTART:20180613T130000Z
DTEND:20180613T140000Z
X-MICROSOFT-CDO-ALLDAYEVENT:FALSE
SUMMARY:Nuview Webinar Checkbook control
DESCRIPTION:Spend an hour with the expert  Jason Debono\, to learn how to gain the ultimate amount of flexibility when investing for retirement.\n\n       Checkbook Control\n\n\n	What is Checkbook control \n	How to establish one and what are the advantages\n	When does it make sense to initiate Checkbook control and what are the rules\n	Potential roadblocks and speed bumps\n\n\n   Click HERE to register:\n\nhttps://nuviewira.secure.force.com/pmtx/evt__QuickEvent?id=a3H44000001bOx8
X-ALT-DESC;FMTTYPE=text/html:<h3><span style="color: rgb(128\, 128\, 128)\;">Spend an hour with the expert&nbsp\;&nbsp\;<span style="color: rgb(0\, 0\, 0)\;"><strong>Jason Debono</strong>\,</span>&nbsp\;to learn how to gain the ultimate amount of flexibility when investing for retirement.</span></h3>\n\n<h2><span style="color: rgb(0\, 0\, 128)\;"><strong>&nbsp\; &nbsp\; &nbsp\; &nbsp\;Checkbook Control</strong></span></h2>\n\n<ul>\n	<li style="text-align: left\;"><span style="color: rgb(128\, 128\, 128)\;">What is Checkbook control&nbsp\;</span></li>\n	<li style="text-align: left\;"><span style="color: rgb(128\, 128\, 128)\;">How to establish one and what are the advantages</span></li>\n	<li style="text-align: left\;"><span style="color: rgb(128\, 128\, 128)\;">When does it make sense to&nbsp\;initiate Checkbook control and what are the rules</span></li>\n	<li style="text-align: left\;"><span style="color: rgb(128\, 128\, 128)\;">Potential roadblocks and speed bumps</span></li>\n</ul>\n\n<div style="text-align: left\;"><span style="color: rgb(128\, 128\, 128)\;">&nbsp\; </span><span style="color: rgb(255\, 165\, 0)\;"><strong>&nbsp\;<u><span style="font-size: 16px\;">Click HERE to register:</span></u></strong></span></div>\n\n<div style="text-align: left\;"><a href="https://nuviewira.secure.force.com/pmtx/evt__QuickEvent?id=a3H44000001bOx8" style="color: rgb(1\, 91\, 167)\; font-family: Arial\, Helvetica\, sans-serif\; font-size: 12px\;" target="_blank">https://nuviewira.secure.force.com/pmtx/evt__QuickEvent?id=a3H44000001bOx8</a></div>\n
LOCATION:NuView HQ 280 S Ronald Regan Blvd\, Longwood\, Fl 32750
UID:e.2138.9373
SEQUENCE:3
DTSTAMP:20260424T083027Z
URL:https://business.seminolebusiness.org/events/details/nuview-webinar-checkbook-control-9373
END:VEVENT

END:VCALENDAR
