BEGIN:VCALENDAR
VERSION:2.0
PRODID:-//ChamberMaster//Event Calendar 2.0//EN
METHOD:PUBLISH
X-PUBLISHED-TTL:P3D
REFRESH-INTERVAL:P3D
CALSCALE:GREGORIAN
BEGIN:VEVENT
DTSTART:20180606T170000Z
DTEND:20180606T180000Z
X-MICROSOFT-CDO-ALLDAYEVENT:FALSE
SUMMARY:Nuview Workshop power of Self-Direction
DESCRIPTION:Join Joey Eplite to discover:\n\n \n\nThe Power of Self-directions\n\n\n	What are the benefits of a self Directed IRA \n	Understanding prohibited transactions\n	The Nuview difference\n	What is the process to get started\n\n\n   Click HERE to register:\n\nhttps://nuviewira.secure.force.com/pmtx/evt__QuickEvent?id=a3H44000001bNt8
X-ALT-DESC;FMTTYPE=text/html:<h3><span style="color: rgb(128\, 128\, 128)\;"><strong>Join&nbsp\;</strong></span><strong><span style="color: rgb(51\, 51\, 51)\;">Joey Eplite</span><span style="color: rgb(128\, 128\, 128)\;">&nbsp\;to discover:</span></strong></h3>\n\n<h3><span style="color: rgb(0\, 0\, 128)\;"><strong>&nbsp\;<br />\nThe Power of Self-directions</strong></span></h3>\n\n<ul>\n	<li style="text-align: left\;"><span style="color: rgb(128\, 128\, 128)\;">What are the benefits of a self Directed IRA&nbsp\;</span></li>\n	<li style="text-align: left\;"><span style="color: rgb(128\, 128\, 128)\;">Understanding prohibited transactions</span></li>\n	<li style="text-align: left\;"><span style="color: rgb(128\, 128\, 128)\;">The Nuview difference</span></li>\n	<li style="text-align: left\;"><span style="color: rgb(128\, 128\, 128)\;">What is the process to get started</span></li>\n</ul>\n\n<div style="text-align: left\;"><span style="color: rgb(128\, 128\, 128)\;">&nbsp\; </span><span style="color: rgb(255\, 165\, 0)\;"><strong>&nbsp\;<u><span style="font-size: 16px\;">Click HERE to register:</span></u></strong></span></div>\n\n<div style="text-align: left\;"><span style="color: rgb(128\, 128\, 128)\;"><a href="https://nuviewira.secure.force.com/pmtx/evt__QuickEvent?id=a3H44000001bNt8">https://nuviewira.secure.force.com/pmtx/evt__QuickEvent?id=a3H44000001bNt8</a></span></div>\n
LOCATION:NuView HQ 280 S Ronald Regan Blvd\, Longwood\, Fl 32750
UID:e.2138.9370
SEQUENCE:3
DTSTAMP:20260424T084508Z
URL:https://business.seminolebusiness.org/events/details/nuview-workshop-power-of-self-direction-9370
END:VEVENT

END:VCALENDAR
