BEGIN:VCALENDAR
VERSION:2.0
PRODID:-//ChamberMaster//Event Calendar 2.0//EN
METHOD:PUBLISH
X-PUBLISHED-TTL:P3D
REFRESH-INTERVAL:P3D
CALSCALE:GREGORIAN
BEGIN:VEVENT
DTSTART:20180627T203000Z
DTEND:20180627T213000Z
X-MICROSOFT-CDO-ALLDAYEVENT:FALSE
SUMMARY:Nuview Workshop Q&A Forum
DESCRIPTION:Take the mystery out of Alternative Investments!\n\nThe expert\, Tyler Carter\, will answer your questions on various Self-Directed IRAs topics.\n\nThis is a great opportunity to learn about Nuview Trust and gain confidence to make the next step towards creating lasting wealth.\n\n \n\n   Click HERE to register:\n\nhttps://nuviewira.secure.force.com/pmtx/evt__QuickEvent?id=a3H44000001bTqA
X-ALT-DESC;FMTTYPE=text/html:<h2><span style="color: rgb(0\, 0\, 128)\;">Take the mystery out of Alternative Investments!</span></h2>\n\n<h3><span style="color: rgb(128\, 128\, 128)\;">The expert\,&nbsp\;</span>Tyler Carter\,<span style="color: rgb(128\, 128\, 128)\;">&nbsp\;will answer your questions on various Self-Directed IRAs topics.</span></h3>\n\n<h3><span style="color: rgb(128\, 128\, 128)\;">This is a great opportunity to learn about Nuview Trust and gain confidence to make the next step towards creating lasting wealth.</span></h3>\n\n<p>&nbsp\;</p>\n\n<div style="text-align: left\;"><span style="color: rgb(128\, 128\, 128)\;">&nbsp\; </span><span style="color: rgb(255\, 165\, 0)\;"><strong>&nbsp\;<u><span style="font-size: 16px\;">Click HERE to register:</span></u></strong></span></div>\n\n<div style="text-align: left\;"><a href="https://nuviewira.secure.force.com/pmtx/evt__QuickEvent?id=a3H44000001bTqA" style="color: rgb(0\, 0\, 0)\; font-family: Arial\, Helvetica\, sans-serif\; font-size: 12px\;" target="_blank">https://nuviewira.secure.force.com/pmtx/evt__QuickEvent?id=a3H44000001bTqA</a></div>\n
LOCATION:NuView HQ 280 S Ronald Regan Blvd\, Longwood\, Fl 32750
UID:e.2138.9372
SEQUENCE:3
DTSTAMP:20260424T083024Z
URL:https://business.seminolebusiness.org/events/details/nuview-workshop-q-a-forum-9372
END:VEVENT

END:VCALENDAR
