BEGIN:VCALENDAR
VERSION:2.0
PRODID:-//ChamberMaster//Event Calendar 2.0//EN
METHOD:PUBLISH
X-PUBLISHED-TTL:P3D
REFRESH-INTERVAL:P3D
CALSCALE:GREGORIAN
BEGIN:VEVENT
DTSTART:20161003T120000Z
DTEND:20161003T180000Z
X-MICROSOFT-CDO-ALLDAYEVENT:FALSE
SUMMARY:OIA Charity Golf Tournament to benefit UCP of Central Florida
DESCRIPTION:The Management Council of Orlando International Airport will host the 27th Annual OIA Airline Management Council Charity Golf Tournament on Tuesday Oct 3\, 2016 in support of UCP of Central Florida.  The Tournament will be held at Celebration Golf Club.\n\n\n\nFor more information\, please contact: Beverly Lewis at 407 -825-3330
X-ALT-DESC;FMTTYPE=text/html:<span style="font-size:12px"><span style="font-family:arial\,helvetica\,sans-serif"><strong>The Management Council of Orlando International Airport will host the 27th Annual OIA Airline Management Council Charity Golf Tournament on Tuesday Oct 3\, 2016 in support of UCP of Central Florida.&nbsp\; The Tournament will be held at Celebration Golf Club.</strong><br />\n<br />\n<em>For more information\, please contact: Beverly Lewis at 407 -825-3330</em></span></span>
LOCATION:Celebration Golf Club Celebration Golf Club was designed by the father and son team of Robert Trent Jones Sr. and Jr. Celebration is an upscale golf resort course that exudes an atmosphere of beautiful tranquility and fun\, challenging golf. The course is located in Disney's town of Celebration near I-4\, but you'll never know you're in the heart of the tourist district. Opened in 1996\, Celebration is framed by borders of native trees and natural Florida wetlands and speckled with clusters of native oak\, pine and magnolia trees. Designed with shot-making strategy in mind\, this championship caliber course demands accurate approach shots and consistent putting. Featuring strategic hazards and challenging greens\, Celebration sports five sets of tees on every hole and invites competition for many skill levels. A real Orlando\, FL golf hot spot!
UID:e.2138.4881
SEQUENCE:3
DTSTAMP:20260425T164738Z
URL:https://business.seminolebusiness.org/events/details/oia-charity-golf-tournament-4881
END:VEVENT

END:VCALENDAR
