BEGIN:VCALENDAR
VERSION:2.0
PRODID:-//ChamberMaster//Event Calendar 2.0//EN
METHOD:PUBLISH
X-PUBLISHED-TTL:P3D
REFRESH-INTERVAL:P3D
CALSCALE:GREGORIAN
BEGIN:VEVENT
DTSTART:20161203T220000Z
DTEND:20161204T234500Z
X-MICROSOFT-CDO-ALLDAYEVENT:FALSE
SUMMARY:Once Upon a Time on Ice
DESCRIPTION:RDV Sportsplex Ice Den's annual winter ice show: Once Upon a Time on Ice features skaters from our Learn to Skate level to our national competitors! Show times are at 5:00 pm both Saturday\, December 3rd and Sunday\, December 4th. Tickets cost $9 for ages three and up.
X-ALT-DESC;FMTTYPE=text/html:RDV Sportsplex Ice Den&#39\;s annual winter ice show: Once Upon a Time on Ice features skaters from our Learn to Skate level to our national competitors! Show times are at 5:00 pm both Saturday\, December 3rd and Sunday\, December 4th. Tickets cost $9 for ages three and up.
LOCATION:RDV Sportsplex Ice Den 8701 Maitland Summit Blvd. Orlando\, FL 32810
UID:e.2138.5747
SEQUENCE:3
DTSTAMP:20260425T132017Z
URL:https://business.seminolebusiness.org/events/details/once-upon-a-time-on-ice-5747
END:VEVENT

END:VCALENDAR
