BEGIN:VCALENDAR
VERSION:2.0
PRODID:-//ChamberMaster//Event Calendar 2.0//EN
METHOD:PUBLISH
X-PUBLISHED-TTL:P3D
REFRESH-INTERVAL:P3D
CALSCALE:GREGORIAN
BEGIN:VEVENT
DTSTART:20140513T120000Z
DTEND:20140513T210000Z
X-MICROSOFT-CDO-ALLDAYEVENT:FALSE
SUMMARY:One Day\, Many Solutions Employment Law Seminar
DESCRIPTION:The labor and employment attorneys from Fisher & Phillips LLP are going coast-to-coast in 2014 with practical solutions for workplace problems. This Employment Law Seminar is designed for anyone who manages employees and makes decisions impacting the workforce. The cost of the seminar is $165 per person and includes breakfast and lunch. To receive a special Seminole Chamber discounted rate rate of $125.00\, enter this code at online registration: SCC46.
X-ALT-DESC;FMTTYPE=text/html:The labor and employment attorneys from Fisher & Phillips LLP are going coast-to-coast in 2014 with practical solutions for workplace problems. This Employment Law Seminar is designed for anyone who manages employees and makes decisions impacting the workforce. The cost of the seminar is $165 per person and includes breakfast and lunch. To receive a special Seminole Chamber discounted rate rate of $125.00\, enter this code at online registration: SCC46. 
LOCATION:Garden House at Harry P. Leu Gardens
UID:e.2138.1584
SEQUENCE:3
DTSTAMP:20260420T112320Z
URL:https://business.seminolebusiness.org/events/details/one-day-many-solutions-employment-law-seminar-05-13-2014-1584
END:VEVENT

END:VCALENDAR
