BEGIN:VCALENDAR
VERSION:2.0
PRODID:-//ChamberMaster//Event Calendar 2.0//EN
METHOD:PUBLISH
X-PUBLISHED-TTL:P3D
REFRESH-INTERVAL:P3D
CALSCALE:GREGORIAN
BEGIN:VEVENT
DTSTART:20171028T140000Z
DTEND:20171028T220000Z
X-MICROSOFT-CDO-ALLDAYEVENT:FALSE
SUMMARY:OPEN GYM! at Fitness Xperts
DESCRIPTION:If you've been undecided on joining a Gym in Orlando\, then make sure you Save This Date. Come check out the Gym at Fitness Xperts for FREE! We are opening our doors to the Public to Experience our otherwise- private neighborhood Gym. Meet with our Xpert Trainers to discuss a fitness program customized to your own GOALS. OPEN GYM! is set to take place once-a-month so Stay Tuned for the Date and Times for next month as well.
X-ALT-DESC;FMTTYPE=text/html:<span style="color:rgb(75\, 79\, 86)\; font-family:helvetica\,arial\,sans-serif\; font-size:14px"><strong>If you&#39\;ve been undecided on joining a Gym in Orlando\, then make sure you Save This Date. </strong>Come check out the Gym at Fitness Xperts for FREE! We are opening our doors to the Public to Experience our otherwise- private neighborhood Gym. Meet with our Xpert Trainers to discuss a fitness program customized to your own GOALS. OPEN GYM! is set to take place once-a-month so Stay Tuned for the Date and Times for next month as well.</span>
LOCATION:224 W. Central Parkway\, Suite 1010 Altamonte Springs\, FL 32714
UID:e.2138.8295
SEQUENCE:3
DTSTAMP:20260424T043537Z
URL:https://business.seminolebusiness.org/events/details/open-gym-at-fitness-xperts-10-28-2017-8295
END:VEVENT

END:VCALENDAR
