BEGIN:VCALENDAR
VERSION:2.0
PRODID:-//ChamberMaster//Event Calendar 2.0//EN
METHOD:PUBLISH
X-PUBLISHED-TTL:P3D
REFRESH-INTERVAL:P3D
CALSCALE:GREGORIAN
BEGIN:VEVENT
DTSTART:20171118T150000Z
DTEND:20171118T230000Z
X-MICROSOFT-CDO-ALLDAYEVENT:FALSE
SUMMARY:OPEN GYM! at Fitness Xperts
DESCRIPTION:If you've been undecided on joining a Gym in Orlando\, then make sure you Save This Date. Come check out the Gym at Fitness Xperts for FREE! We are opening our doors to the Public to Experience our otherwise- private neighborhood Gym. Meet with our Xpert Trainers to discuss a fitness program customized to your own GOALS. OPEN GYM! is set to take place once-a-month so Stay Tuned for the Date and Times for next month as well.
X-ALT-DESC;FMTTYPE=text/html:<span style="color:rgb(75\, 79\, 86)\; font-family:helvetica\,arial\,sans-serif\; font-size:14px"><span style="font-size:16px"><strong>If you&#39\;ve been undecided on joining a Gym in Orlando\, then make sure you Save This Date. </strong></span>Come check out the Gym at Fitness Xperts for FREE! We are opening our doors to the Public to Experience our otherwise- private neighborhood Gym. Meet with our Xpert Trainers to discuss a fitness program customized to your own GOALS. OPEN GYM! is set to take place once-a-month so Stay Tuned for the Date and Times for next month as well.</span>
LOCATION:224 W. Central Parkway\, #1010 Altamonte Springs\, Florida 32714 We're located in the Plaza. At the Corner of Douglas and Central Parkway.
UID:e.2138.8359
SEQUENCE:3
DTSTAMP:20260424T061938Z
URL:https://business.seminolebusiness.org/events/details/open-gym-at-fitness-xperts-8359
END:VEVENT

END:VCALENDAR
