BEGIN:VCALENDAR
VERSION:2.0
PRODID:-//ChamberMaster//Event Calendar 2.0//EN
METHOD:PUBLISH
X-PUBLISHED-TTL:P3D
REFRESH-INTERVAL:P3D
CALSCALE:GREGORIAN
BEGIN:VEVENT
DTSTART:20260426T160000Z
DTEND:20260426T190000Z
X-MICROSOFT-CDO-ALLDAYEVENT:FALSE
SUMMARY:Open House
DESCRIPTION:Renee Holt invites the community\, local professionals\, and prospective buyers to an exclusive Open House event at 1550 Downy Birch Lane\, Longwood\, FL 32750 on Sunday April 26\, 2026\, from 1:00 PM   3:00 PM. (Call for gate code). \n\nThis beautifully presented townhome offers 2 bedrooms\, 2-1/2 bathrooms\, 1\,284 sq. ft. with a 1-car garage\, built in 2013\, and features a gated community\, low HOA and taxes\, TWO master suites\, upgraded kitchen\, conservation views. Top rated Seminole County schools. Conveniently located near I-4\, 17-92\, SR 434\, Ronald Reagan Blvd\, Lake Mary Blvd\, the Cross Seminole Trail\, SunRail stations\, and an abundance of shopping\, dining\, and medical facilities. This townhome stands out for its unmatched privacy\, upgrades\, it's vacant and move in ready\, making it a must-see for buyers seeking comfort\, style\, low-maintenance living\, privacy\, and an unbeatable location.
X-ALT-DESC;FMTTYPE=text/html:<strong><span style="font-family:arial narrow\,sans-serif"><span style="font-size:14.0pt">Renee Holt invites the community\, local professionals\, and prospective buyers to an exclusive Open House event at 1550 Downy Birch Lane\, Longwood\, FL 32750 on Sunday April 26\, 2026\, from 1:00 PM &ndash\; 3:00 PM. (Call for gate code).&nbsp\;<br />\nThis beautifully presented townhome offers 2 bedrooms\, 2-1/2 bathrooms\, 1\,284 sq. ft. with a 1-car garage\, built in 2013\, and features a gated community\, low HOA and taxes\, TWO master suites\, upgraded kitchen\, conservation views. Top rated Seminole County schools. <span style="color:black">Conveniently located near I-4\, 17-92\, SR 434\, Ronald Reagan Blvd\, Lake Mary Blvd\, the Cross Seminole Trail\, SunRail stations\, and an abundance of shopping\, dining\, and medical facilities. </span>This townhome stands out for its unmatched privacy\, upgrades\, it&rsquo\;s vacant and move in ready\, making it a must-see for buyers seeking comfort\, style\, <span style="color:black">low-maintenance living\, privacy\, and an unbeatable location.</span></span></span></strong><br />\n&nbsp\;
LOCATION:1550 Downy Birch Lane\, Longwood\, FL 32750 Hanover Pointe Sunday April 26\, 2026 from 12:00 PM - 3:00 PM Call Renee Holt at 407-474-5552 for Gate Code
UID:e.2138.42607
SEQUENCE:3
DTSTAMP:20260422T195008Z
URL:https://business.seminolebusiness.org/events/details/open-house-04-26-2026-42607
END:VEVENT

END:VCALENDAR
