BEGIN:VCALENDAR
VERSION:2.0
PRODID:-//ChamberMaster//Event Calendar 2.0//EN
METHOD:PUBLISH
X-PUBLISHED-TTL:P3D
REFRESH-INTERVAL:P3D
CALSCALE:GREGORIAN
BEGIN:VEVENT
DTSTART:20181014T170000Z
DTEND:20181014T200000Z
X-MICROSOFT-CDO-ALLDAYEVENT:FALSE
SUMMARY:OPEN HOUSE!!
DESCRIPTION:OPEN HOUSE\n\n\n\n\n\nhttp://tours.tourfactory.com/tours/tour.asp?t=2049349
X-ALT-DESC;FMTTYPE=text/html:OPEN HOUSE<br />\n<br />\n<br />\n<a href="http://tours.tourfactory.com/tours/tour.asp?t=2049349">http://tours.tourfactory.com/tours/tour.asp?t=2049349</a><br />\n&nbsp\;
LOCATION:1320 WOODLAND STREET ORLANDO FL\, 32806
UID:e.2138.14790
SEQUENCE:3
DTSTAMP:20260424T022252Z
URL:https://business.seminolebusiness.org/events/details/open-house-10-14-2018-14790
END:VEVENT

END:VCALENDAR
