BEGIN:VCALENDAR
VERSION:2.0
PRODID:-//ChamberMaster//Event Calendar 2.0//EN
METHOD:PUBLISH
X-PUBLISHED-TTL:P3D
REFRESH-INTERVAL:P3D
CALSCALE:GREGORIAN
BEGIN:VEVENT
DTSTART:20181016T213000Z
DTEND:20181016T233000Z
X-MICROSOFT-CDO-ALLDAYEVENT:FALSE
SUMMARY:OPEN HOUSE
DESCRIPTION:22 Health would like invite you to an Open House \n\nThis is an opportunity come tour our beautiful facility and\n\nMeet and Greet with Dr. Jon Mettert and Dr. Dan Ross\n\nHors d'oeuvre and Cocktails provided
X-ALT-DESC;FMTTYPE=text/html:<span style="color: rgb(51\, 51\, 51)\;"><span style="font-family: arial\,sans-serif\;"><span style="font-size: 10pt\;">22 Health would like invite you to an Open House&nbsp\;</span></span></span><br />\n<span style="color: rgb(51\, 51\, 51)\;"><span style="font-family: arial\,sans-serif\;"><span style="font-size: 10pt\;">This is an opportunity&nbsp\;come tour our beautiful facility and<br />\nMeet and Greet with Dr. Jon Mettert and Dr. Dan Ross</span></span></span><br />\n<span style="font-family: arial\,sans-serif\;"><span style="font-size: 10pt\;">Hors d&#39\;oeuvre</span></span> and Cocktails provided<br />\n&nbsp\;
LOCATION:22 Health 1052 West SR 436 Suite 1070 Altamonte Springs FL. 32714
UID:e.2138.14782
SEQUENCE:3
DTSTAMP:20260424T035700Z
URL:https://business.seminolebusiness.org/events/details/open-house-10-16-2018-14782
END:VEVENT

END:VCALENDAR
