BEGIN:VCALENDAR
VERSION:2.0
PRODID:-//ChamberMaster//Event Calendar 2.0//EN
METHOD:PUBLISH
X-PUBLISHED-TTL:P3D
REFRESH-INTERVAL:P3D
CALSCALE:GREGORIAN
BEGIN:VEVENT
DTSTART:20180315T190000Z
DTEND:20180315T220000Z
X-MICROSOFT-CDO-ALLDAYEVENT:FALSE
SUMMARY:Open House
DESCRIPTION:Although we think of you often through the year\, we sometimes overlook an opportunity to tell you just how special you are to us. It is always a pleasure to see you\, and we very much appreciate your ongoing friendship.\n\n\n\nWe will be hosting an Edward Jones open house Thursday\, March 15th from 3:00 pm to 6:00 pm.\n\n\n\nPlus\, door prizes will be drawn.\n\n\n\n\n\nWe look forward to seeing you soon!
X-ALT-DESC;FMTTYPE=text/html:<br />\n<span style="font-size: 10.5pt\;">Although we think of you often through the year\, we sometimes overlook an opportunity to tell you just how special you are to us. It is always a pleasure to see you\, and we very much appreciate your ongoing friendship.</span><br />\n<br />\n<span style="font-size: 10.5pt\;">We will be</span><span style="font-size: 10.5pt\;">&nbsp\;hosting an Edward Jones open house </span><span style="font-size: 10.5pt\;">Thursday\, March 15th</span><span style="font-size: 10.5pt\;"> from </span>3:00 pm<span style="font-size: 10.5pt\;"> to </span>6:00 pm<span style="font-size: 10.5pt\;">.</span><br />\n<br />\n<span style="font-size: 10.5pt\;">Plus\, door prizes will be drawn.</span><br />\n<br />\n<br />\n<span style="font-size: 10.5pt\;">We</span><span style="font-size: 10.5pt\;"> look forward to seeing you soon!</span>
LOCATION:142 W. Lakeview Ave. Suite 2000 Lake Mary\, FL. 32746
UID:e.2138.8798
SEQUENCE:3
DTSTAMP:20260424T125931Z
URL:https://business.seminolebusiness.org/events/details/open-house-8798
END:VEVENT

END:VCALENDAR
