BEGIN:VCALENDAR
VERSION:2.0
PRODID:-//ChamberMaster//Event Calendar 2.0//EN
METHOD:PUBLISH
X-PUBLISHED-TTL:P3D
REFRESH-INTERVAL:P3D
CALSCALE:GREGORIAN
BEGIN:VEVENT
DTSTART:20170902T150000Z
DTEND:20170902T190000Z
X-MICROSOFT-CDO-ALLDAYEVENT:FALSE
SUMMARY:Open House at 257-TERRACINA-DRIVE-SANFORD-FL-32771
DESCRIPTION:Open House at the Terracina at Lake Forest Subdivision
X-ALT-DESC;FMTTYPE=text/html:Open House at the Terracina at Lake Forest Subdivision&nbsp\;
LOCATION:257-TERRACINA-DRIVE-SANFORD-FL-32771
UID:e.2138.8235
SEQUENCE:3
DTSTAMP:20260424T031338Z
URL:https://business.seminolebusiness.org/events/details/open-house-at-257-terracina-drive-sanford-fl-32771-8235
END:VEVENT

END:VCALENDAR
