BEGIN:VCALENDAR
VERSION:2.0
PRODID:-//ChamberMaster//Event Calendar 2.0//EN
METHOD:PUBLISH
X-PUBLISHED-TTL:P3D
REFRESH-INTERVAL:P3D
CALSCALE:GREGORIAN
BEGIN:VEVENT
DTSTART:20231010T203000Z
DTEND:20231010T223000Z
X-MICROSOFT-CDO-ALLDAYEVENT:FALSE
SUMMARY:Open House at the Altamonte Springs Campus
DESCRIPTION:Join us for an Open House at the Altamonte Springs Campus\, home of Seminole State's renowned health care programs!\n\n\n\nLearn about allied health programs in high-demand fields including physical therapy and respiratory care and see how Seminole State can help you prepare for career success. Plus\, explore campus life\, student resources\, and support services to make the most of your college experience. \n\n \n\nCampus tours are available. Light refreshments will be provided.
X-ALT-DESC;FMTTYPE=text/html:<span style="font-size:14px"><span style="font-family:arial\,helvetica\,sans-serif">Join us for an Open House at the Altamonte Springs Campus\,&nbsp\;<span style="color:#050505">home of Seminole State&rsquo\;s renowned health care programs!<br />\n<br />\nLearn about allied health programs in high-demand fields including physical therapy and respiratory care and see how Seminole State can help you prepare for career success.&nbsp\;</span><span style="color:#050505">Plus\, explore campus life\, student resources\, and support services to make the most of your college experience. </span><br />\n&nbsp\;<br />\n<span style="color:#050505">Campus tours are available. Light refreshments will be provided.</span></span></span><br />\n&nbsp\;
LOCATION:Seminole State College of Florida Altamonte Springs Campus
UID:e.2138.33148
SEQUENCE:3
DTSTAMP:20260424T233439Z
URL:https://business.seminolebusiness.org/events/details/open-house-at-the-altamonte-springs-campus-33148
END:VEVENT

END:VCALENDAR
