BEGIN:VCALENDAR
VERSION:2.0
PRODID:-//ChamberMaster//Event Calendar 2.0//EN
METHOD:PUBLISH
X-PUBLISHED-TTL:P3D
REFRESH-INTERVAL:P3D
CALSCALE:GREGORIAN
BEGIN:VEVENT
DTSTART:20190720T150000Z
DTEND:20190721T210000Z
X-MICROSOFT-CDO-ALLDAYEVENT:FALSE
SUMMARY:Open House Extravaganza in Sanford this Weekend
DESCRIPTION:OPEN HOUSE BOTH SATURDAY AND SUNDAY\n\n$10\,000 PRICE IMPROVEMENT - PRICED TO SELL!!\n\n\n\nSat 7/20\n\n11:00 AM - 2:00 PM\n\n\n\nSun 7/12\n\n3:00 PM - 5:00 PM\n\n\n\n1625 Stargazer Terrace \n\nSanford - Retreat at Wekiva \n\nNow $340\,000\n\n\n\nIf you'd like to see it sooner\, please call me anytime\, and if this home isn't for you\, I would be very grateful if you could share with your friends and family - this could be there dream home!! \n\n407-608-8071 or sharon.infanti@kw.com\n\n\n\nDETAILS\n\nAlmost 2\,000 sf \n\n3 Bed / 2 Bath / Den (currently being used as 4th bedroom)\n\n2015 Saltwater Pool \n\n2015 Screened Enclosure with Large Lanai for Entertaining\n\n12 Foot Ceilings Throughout\n\n2015 AC on Inside and Outside \n\nNew WiFi Enabled Garage Door and Thermostat\n\nBreathtaking Views\n\n1/4 Acre Surrounded by Acres of Protected Preserve\n\n\n\nPlease click here for more information:\n\nhttps://www.sharoninfanti.com/property/fl/32771/sanford/32771---sanford-lake-forest--retreat-at-wekiva/1625-stargazer-terrace/5d260aa01fb64df89a977262/
X-ALT-DESC;FMTTYPE=text/html:<strong><span style="color:rgb(29\, 33\, 41)\; font-family:helvetica\,arial\,sans-serif\; font-size:14px">OPEN HOUSE BOTH SATURDAY AND SUNDAY</span></strong><br />\n<span style="color:rgb(29\, 33\, 41)\; font-family:helvetica\,arial\,sans-serif\; font-size:14px">$10\,000 PRICE IMPROVEMENT - PRICED TO SELL!!<br />\n<br />\n<strong>Sat 7/20</strong></span><br />\n<span style="color:rgb(29\, 33\, 41)\; font-family:helvetica\,arial\,sans-serif\; font-size:14px">11:00 AM - 2:00 PM</span><br />\n<br />\n<strong><span style="color:rgb(29\, 33\, 41)\; font-family:helvetica\,arial\,sans-serif\; font-size:14px">Sun 7/12</span></strong><br />\n<span style="color:rgb(29\, 33\, 41)\; font-family:helvetica\,arial\,sans-serif\; font-size:14px">3:00 PM - 5:00 PM</span><br />\n<br />\n<span style="color:rgb(29\, 33\, 41)\; font-family:helvetica\,arial\,sans-serif\; font-size:14px">1625 Stargazer Terrace </span><br />\n<span style="color:rgb(29\, 33\, 41)\; font-family:helvetica\,arial\,sans-serif\; font-size:14px">Sanford - Retreat at Wekiva </span><br />\n<strong><span style="color:rgb(29\, 33\, 41)\; font-family:helvetica\,arial\,sans-serif\; font-size:14px">Now $340\,000</span></strong><br />\n<br />\n<span style="color:rgb(29\, 33\, 41)\; font-family:helvetica\,arial\,sans-serif\; font-size:14px">If you&#39\;d like to see it sooner\, please call me anytime\, and if this home isn&#39\;t for you\, I would be very grateful if you could share with your friends and family - this could be there dream home!! </span><br />\n<span style="color:rgb(29\, 33\, 41)\; font-family:helvetica\,arial\,sans-serif\; font-size:14px">407-608-8071 or sharon.infanti@kw.com</span><br />\n<br />\n<strong><span style="color:rgb(29\, 33\, 41)\; font-family:helvetica\,arial\,sans-serif\; font-size:14px">DETAILS</span></strong><br />\n<span style="color:rgb(29\, 33\, 41)\; font-family:helvetica\,arial\,sans-serif\; font-size:14px">Almost 2\,000 sf </span><br />\n<span style="color:rgb(29\, 33\, 41)\; font-family:helvetica\,arial\,sans-serif\; font-size:14px">3 Bed / 2 Bath / Den (currently being used as 4th bedroom)</span><br />\n<span style="color:rgb(29\, 33\, 41)\; font-family:helvetica\,arial\,sans-serif\; font-size:14px">2015 Saltwater Pool </span><br />\n<span style="color:rgb(29\, 33\, 41)\; font-family:helvetica\,arial\,sans-serif\; font-size:14px">2015 Screened Enclosure with Large Lanai for Entertaining</span><br />\n<span style="color:rgb(29\, 33\, 41)\; font-family:helvetica\,arial\,sans-serif\; font-size:14px">12 Foot Ceilings Throughout</span><br />\n<span style="color:rgb(29\, 33\, 41)\; font-family:helvetica\,arial\,sans-serif\; font-size:14px">2015 AC on Inside and Outside </span><br />\n<span style="color:rgb(29\, 33\, 41)\; font-family:helvetica\,arial\,sans-serif\; font-size:14px">New WiFi Enabled Garage Door and Thermostat</span><br />\n<span style="color:rgb(29\, 33\, 41)\; font-family:helvetica\,arial\,sans-serif\; font-size:14px">Breathtaking Views</span><br />\n<span style="color:rgb(29\, 33\, 41)\; font-family:helvetica\,arial\,sans-serif\; font-size:14px">1/4 Acre Surrounded by Acres of Protected Preserve</span><br />\n<br />\n<span style="color:rgb(29\, 33\, 41)\; font-family:helvetica\,arial\,sans-serif\; font-size:14px">Please click here for more information:</span><br />\n<a href="https://www.sharoninfanti.com/property/fl/32771/sanford/32771---sanford-lake-forest--retreat-at-wekiva/1625-stargazer-terrace/5d260aa01fb64df89a977262/">https://www.sharoninfanti.com/property/fl/32771/sanford/32771---sanford-lake-forest--retreat-at-wekiva/1625-stargazer-terrace/5d260aa01fb64df89a977262/</a>
LOCATION:1625 Stargazer Terrace Sanford - Retreat at Wekiva
UID:e.2138.16241
SEQUENCE:3
DTSTAMP:20260422T050150Z
URL:https://business.seminolebusiness.org/events/details/open-house-extravaganza-in-sanford-this-weekend-16241
END:VEVENT

END:VCALENDAR
