BEGIN:VCALENDAR
VERSION:2.0
PRODID:-//ChamberMaster//Event Calendar 2.0//EN
METHOD:PUBLISH
X-PUBLISHED-TTL:P3D
REFRESH-INTERVAL:P3D
CALSCALE:GREGORIAN
BEGIN:VEVENT
DTSTART:20181204T160000Z
DTEND:20181204T220000Z
X-MICROSOFT-CDO-ALLDAYEVENT:FALSE
SUMMARY:Open House - NextStep Orlando
DESCRIPTION:An open house to announce that NextStep Orlando\, a nonprofit activity-based paralysis recovery center\, has been accepted as a Community Fitness and Wellness Affiliate within the Christopher & Dana Reeve Foundation NeuroRecovery Network.
X-ALT-DESC;FMTTYPE=text/html:An open house to announce that NextStep Orlando\, a nonprofit activity-based paralysis recovery center\, has been accepted as a Community Fitness and Wellness Affiliate within the Christopher &amp\; Dana Reeve Foundation NeuroRecovery Network.
LOCATION:NextStep Orlando 330 Harbour Isle Way #1090 Longwood\, FL 32750
UID:e.2138.14816
SEQUENCE:3
DTSTAMP:20260423T232349Z
URL:https://business.seminolebusiness.org/events/details/open-house-nextstep-orlando-14816
END:VEVENT

END:VCALENDAR
