BEGIN:VCALENDAR
VERSION:2.0
PRODID:-//ChamberMaster//Event Calendar 2.0//EN
METHOD:PUBLISH
X-PUBLISHED-TTL:P3D
REFRESH-INTERVAL:P3D
CALSCALE:GREGORIAN
BEGIN:VEVENT
DTSTART:20160311T133000Z
DTEND:20160312T000000Z
X-MICROSOFT-CDO-ALLDAYEVENT:FALSE
SUMMARY:Open House to Celebrate Creating Divine Order's 8th Anniversary
DESCRIPTION:You are invited\n\nto\n\nCelebrate Creating Divine Order's\n\n8 years of Service\n\nIn Central Florida\n\nAs Senior Move Managers \n\non \n\nMarch 11\, 2016\n\nAll Day Celebration!\n\n \n\nJoin us according to your schedule. \n\nBrunch: 8:30 a.m. to 12:30 p.m. \n\nLunch: 1:00 to 4:00 p.m.\n\nWine and cheese: 5:00 to 7:00p.m.\n\nAnniversary Cake and Gifts All Day
X-ALT-DESC;FMTTYPE=text/html:<div style="text-align:center"><span style="font-size:28px"><span style="color:black"><span style="font-family:lucida calligraphy">You are invited<br />\nto</span></span><br />\n<span style="color:black"><span style="font-family:lucida calligraphy">Celebrate Creating Divine Order&rsquo\;s</span></span><br />\n<span style="color:black"><span style="font-family:lucida calligraphy">8 years of Service</span></span><br />\n<span style="color:black"><span style="font-family:lucida calligraphy">In Central Florida</span></span><br />\n<span style="color:black"><span style="font-family:lucida calligraphy">As Senior Move Managers </span></span><br />\n<span style="color:black"><span style="font-family:lucida calligraphy">on </span></span></span><br />\n<span style="font-size:24px"><span style="color:black"><span style="font-family:lucida calligraphy">March 11\, 2016</span></span><br />\n<span style="font-size:28px"><span style="color:black"><span style="font-family:lucida calligraphy">All Day Celebration!</span></span></span><br />\n<span style="font-size:12px">&nbsp\;</span><br />\n<span style="color:black"><span style="font-family:lucida calligraphy">Join us according to your schedule. </span></span><br />\n<span style="color:black"><span style="font-family:lucida calligraphy">Brunch: 8:30 a.m. to 12:30 p.m. </span></span><br />\n<span style="color:black"><span style="font-family:lucida calligraphy">Lunch: 1:00 to 4:00 p.m.</span></span><br />\n<span style="color:black"><span style="font-family:lucida calligraphy">Wine and cheese: 5:00 to 7:00p.m.</span></span><br />\n<span style="color:black"><span style="font-family:lucida calligraphy">Anniversary Cake and Gifts All Day&nbsp\; </span></span></span></div>\n
LOCATION:222 Wilshire Blvd\, Casselberry\, FL 32707-5371
UID:e.2138.4369
SEQUENCE:3
DTSTAMP:20260426T031358Z
URL:https://business.seminolebusiness.org/events/details/open-house-to-celebrate-creating-divine-order-s-8th-anniversary-03-11-2016-4369
END:VEVENT

END:VCALENDAR
