BEGIN:VCALENDAR
VERSION:2.0
PRODID:-//ChamberMaster//Event Calendar 2.0//EN
METHOD:PUBLISH
X-PUBLISHED-TTL:P3D
REFRESH-INTERVAL:P3D
CALSCALE:GREGORIAN
BEGIN:VEVENT
DTSTART:20170426T150000Z
DTEND:20170426T230000Z
X-MICROSOFT-CDO-ALLDAYEVENT:FALSE
SUMMARY:Open House - Troy University
DESCRIPTION:You're invited to Troy University's Open House on Wednesday\, April 26th! Troy University - Altamonte Springs is located on E Central Parkway near the Altamonte Mall and Cranes Roost Park. Stop by any time between 11 am and 7 pm to meet TROY's staff and find out how we support the education needs of working adults in Central Florida. Application fees will be WAIVED for attendees\, including those who cannot make the Open House in person and wish to attend the event online. Registration is free but is required to receive the app fee waiver (visit http://www.troy.edu/openhouse/ to register). Contact Jordan Henrickson at 407-342-4553 or jhenrickson@troy.edu to learn more.
X-ALT-DESC;FMTTYPE=text/html:<span style="font-size:medium"><span style="font-family:calibri">You&#39\;re invited to Troy University&#39\;s Open House on Wednesday\, April 26th! Troy University - Altamonte Springs is located on E Central Parkway near the Altamonte Mall and Cranes Roost Park. Stop by any time between 11 am and&nbsp\;7 pm to meet TROY&#39\;s staff and find out how we support the education needs of working adults in Central Florida. Application fees will be&nbsp\;WAIVED for attendees\, including those who cannot make the Open House in person and wish to attend the event online. Registration is free but is required to receive the app fee waiver (visit </span></span><a href="http://www.troy.edu/openhouse/">http://www.troy.edu/openhouse/</a><span style="font-size:medium"><span style="font-family:calibri"> to register). Contact Jordan Henrickson at 407-342-4553 or jhenrickson@troy.edu to learn more.</span></span>
LOCATION:220 E Central Parkway Suite 1020 Altamonte Springs\, FL 32701
UID:e.2138.6724
SEQUENCE:3
DTSTAMP:20260423T193600Z
URL:https://business.seminolebusiness.org/events/details/open-house-troy-university-6724
END:VEVENT

END:VCALENDAR
