BEGIN:VCALENDAR
VERSION:2.0
PRODID:-//ChamberMaster//Event Calendar 2.0//EN
METHOD:PUBLISH
X-PUBLISHED-TTL:P3D
REFRESH-INTERVAL:P3D
CALSCALE:GREGORIAN
BEGIN:VEVENT
DTSTART:20180106T170000Z
DTEND:20180106T210000Z
X-MICROSOFT-CDO-ALLDAYEVENT:FALSE
SUMMARY:Orangetheory FItness Sanford-West Pre Sale Kickoff Party!
DESCRIPTION:Join us for an afternoon of Food\, Music\, Giveaways and the lowest rates we will ever offer at our location!!\n\n\n\nUnable to make it to the party?  Call\, text\, email\, or stop by and get signed up today!!
X-ALT-DESC;FMTTYPE=text/html:Join us for an afternoon of Food\, Music\, Giveaways and the lowest rates we will ever offer at our location!!<br />\n<br />\nUnable to make it to the party? &nbsp\;Call\, text\, email\, or stop by and get signed up today!!
LOCATION:
UID:e.2138.8663
SEQUENCE:3
DTSTAMP:20260424T094514Z
URL:https://business.seminolebusiness.org/events/details/orangetheory-fitness-sanford-west-pre-sale-kickoff-party-8663
END:VEVENT

END:VCALENDAR
